BEGIN:VCALENDAR
VERSION:2.0
PRODID:-//K9 Central - ECPv6.15.20//NONSGML v1.0//EN
CALSCALE:GREGORIAN
METHOD:PUBLISH
X-ORIGINAL-URL:https://k9central.ca
X-WR-CALDESC:Events for K9 Central
REFRESH-INTERVAL;VALUE=DURATION:PT1H
X-Robots-Tag:noindex
X-PUBLISHED-TTL:PT1H
BEGIN:VTIMEZONE
TZID:America/Toronto
BEGIN:DAYLIGHT
TZOFFSETFROM:-0500
TZOFFSETTO:-0400
TZNAME:EDT
DTSTART:20250309T070000
END:DAYLIGHT
BEGIN:STANDARD
TZOFFSETFROM:-0400
TZOFFSETTO:-0500
TZNAME:EST
DTSTART:20251102T060000
END:STANDARD
BEGIN:DAYLIGHT
TZOFFSETFROM:-0500
TZOFFSETTO:-0400
TZNAME:EDT
DTSTART:20260308T070000
END:DAYLIGHT
BEGIN:STANDARD
TZOFFSETFROM:-0400
TZOFFSETTO:-0500
TZNAME:EST
DTSTART:20261101T060000
END:STANDARD
BEGIN:DAYLIGHT
TZOFFSETFROM:-0500
TZOFFSETTO:-0400
TZNAME:EDT
DTSTART:20270314T070000
END:DAYLIGHT
BEGIN:STANDARD
TZOFFSETFROM:-0400
TZOFFSETTO:-0500
TZNAME:EST
DTSTART:20271107T060000
END:STANDARD
END:VTIMEZONE
BEGIN:VEVENT
DTSTART;TZID=America/Toronto:20260911T173000
DTEND;TZID=America/Toronto:20260911T203000
DTSTAMP:20260425T190404
CREATED:20251017T161755Z
LAST-MODIFIED:20251017T161755Z
UID:10005182-1789147800-1789158600@k9central.ca
SUMMARY:Hall Booked
DESCRIPTION:
URL:https://k9central.ca/event/hall-booked/2026-09-11/
LOCATION:Indoor Hall\, 2836 Holt Road\, Bowmanville\, Ontario\, L1C 3K7\, Canada
CATEGORIES:Hall
ORGANIZER;CN="K9 Central":MAILTO:info@k9central.ca
END:VEVENT
BEGIN:VEVENT
DTSTART;TZID=America/Toronto:20260913T100000
DTEND;TZID=America/Toronto:20260913T130000
DTSTAMP:20260425T190404
CREATED:20260119T200422Z
LAST-MODIFIED:20260119T200422Z
UID:10006274-1789293600-1789304400@k9central.ca
SUMMARY:Hall in Use - Some Ruff Competition
DESCRIPTION:
URL:https://k9central.ca/event/hall-in-use-some-ruff-competition-4/
LOCATION:Indoor Hall\, 2836 Holt Road\, Bowmanville\, Ontario\, L1C 3K7\, Canada
CATEGORIES:Hall
ORGANIZER;CN="K9 Central":MAILTO:info@k9central.ca
END:VEVENT
BEGIN:VEVENT
DTSTART;TZID=America/Toronto:20260914T080000
DTEND;TZID=America/Toronto:20260914T090000
DTSTAMP:20260425T190404
CREATED:20240809T002950Z
LAST-MODIFIED:20240809T004654Z
UID:10001740-1789372800-1789376400@k9central.ca
SUMMARY:Hall Not Available
DESCRIPTION:
URL:https://k9central.ca/event/hall-not-available/2026-09-14/
LOCATION:Indoor Hall\, 2836 Holt Road\, Bowmanville\, Ontario\, L1C 3K7\, Canada
ORGANIZER;CN="K9 Central":MAILTO:info@k9central.ca
END:VEVENT
BEGIN:VEVENT
DTSTART;TZID=America/Toronto:20260914T140000
DTEND;TZID=America/Toronto:20260914T170000
DTSTAMP:20260425T190404
CREATED:20260119T203632Z
LAST-MODIFIED:20260119T203632Z
UID:10006342-1789394400-1789405200@k9central.ca
SUMMARY:Hall in use - cleaning
DESCRIPTION:
URL:https://k9central.ca/event/hall-in-use-cleaning/2026-09-14/
LOCATION:Indoor Hall\, 2836 Holt Road\, Bowmanville\, Ontario\, L1C 3K7\, Canada
CATEGORIES:Hall
ORGANIZER;CN="K9 Central":MAILTO:info@k9central.ca
END:VEVENT
BEGIN:VEVENT
DTSTART;TZID=America/Toronto:20260914T170000
DTEND;TZID=America/Toronto:20260914T210000
DTSTAMP:20260425T190404
CREATED:20251104T005346Z
LAST-MODIFIED:20251104T005346Z
UID:10005528-1789405200-1789419600@k9central.ca
SUMMARY:Hall not available - Classes
DESCRIPTION:
URL:https://k9central.ca/event/hall-not-available-classes/2026-09-14/
LOCATION:Indoor Hall\, 2836 Holt Road\, Bowmanville\, Ontario\, L1C 3K7\, Canada
CATEGORIES:Hall
ORGANIZER;CN="K9 Central":MAILTO:info@k9central.ca
END:VEVENT
BEGIN:VEVENT
DTSTART;TZID=America/Toronto:20260915T080000
DTEND;TZID=America/Toronto:20260915T090000
DTSTAMP:20260425T190404
CREATED:20240809T002950Z
LAST-MODIFIED:20240809T004654Z
UID:10001741-1789459200-1789462800@k9central.ca
SUMMARY:Hall Not Available
DESCRIPTION:
URL:https://k9central.ca/event/hall-not-available/2026-09-15/
LOCATION:Indoor Hall\, 2836 Holt Road\, Bowmanville\, Ontario\, L1C 3K7\, Canada
ORGANIZER;CN="K9 Central":MAILTO:info@k9central.ca
END:VEVENT
BEGIN:VEVENT
DTSTART;TZID=America/Toronto:20260915T180000
DTEND;TZID=America/Toronto:20260915T210000
DTSTAMP:20260425T190404
CREATED:20260113T224845Z
LAST-MODIFIED:20260113T224845Z
UID:10005923-1789495200-1789506000@k9central.ca
SUMMARY:Flyball Practice
DESCRIPTION:
URL:https://k9central.ca/event/flyball-practice/2026-09-15/
LOCATION:Indoor Hall\, 2836 Holt Road\, Bowmanville\, Ontario\, L1C 3K7\, Canada
CATEGORIES:Hall
ORGANIZER;CN="K9 Central":MAILTO:info@k9central.ca
END:VEVENT
BEGIN:VEVENT
DTSTART;TZID=America/Toronto:20260916T080000
DTEND;TZID=America/Toronto:20260916T090000
DTSTAMP:20260425T190404
CREATED:20240809T002950Z
LAST-MODIFIED:20240809T004654Z
UID:10001742-1789545600-1789549200@k9central.ca
SUMMARY:Hall Not Available
DESCRIPTION:
URL:https://k9central.ca/event/hall-not-available/2026-09-16/
LOCATION:Indoor Hall\, 2836 Holt Road\, Bowmanville\, Ontario\, L1C 3K7\, Canada
ORGANIZER;CN="K9 Central":MAILTO:info@k9central.ca
END:VEVENT
BEGIN:VEVENT
DTSTART;TZID=America/Toronto:20260917T140000
DTEND;TZID=America/Toronto:20260917T170000
DTSTAMP:20260425T190404
CREATED:20260119T203632Z
LAST-MODIFIED:20260119T203632Z
UID:10006343-1789653600-1789664400@k9central.ca
SUMMARY:Hall in use - cleaning
DESCRIPTION:
URL:https://k9central.ca/event/hall-in-use-cleaning/2026-09-17/
LOCATION:Indoor Hall\, 2836 Holt Road\, Bowmanville\, Ontario\, L1C 3K7\, Canada
CATEGORIES:Hall
ORGANIZER;CN="K9 Central":MAILTO:info@k9central.ca
END:VEVENT
BEGIN:VEVENT
DTSTART;TZID=America/Toronto:20260917T170000
DTEND;TZID=America/Toronto:20260917T210000
DTSTAMP:20260425T190404
CREATED:20251104T005040Z
LAST-MODIFIED:20251104T005205Z
UID:10005268-1789664400-1789678800@k9central.ca
SUMMARY:Hall not available - Classes
DESCRIPTION:
URL:https://k9central.ca/event/classes/2026-09-17/
LOCATION:Indoor Hall\, 2836 Holt Road\, Bowmanville\, Ontario\, L1C 3K7\, Canada
CATEGORIES:Hall
ORGANIZER;CN="K9 Central":MAILTO:info@k9central.ca
END:VEVENT
BEGIN:VEVENT
DTSTART;TZID=America/Toronto:20260918T080000
DTEND;TZID=America/Toronto:20260918T090000
DTSTAMP:20260425T190404
CREATED:20240809T002950Z
LAST-MODIFIED:20240809T004654Z
UID:10001743-1789718400-1789722000@k9central.ca
SUMMARY:Hall Not Available
DESCRIPTION:
URL:https://k9central.ca/event/hall-not-available/2026-09-18/
LOCATION:Indoor Hall\, 2836 Holt Road\, Bowmanville\, Ontario\, L1C 3K7\, Canada
ORGANIZER;CN="K9 Central":MAILTO:info@k9central.ca
END:VEVENT
BEGIN:VEVENT
DTSTART;TZID=America/Toronto:20260918T173000
DTEND;TZID=America/Toronto:20260918T203000
DTSTAMP:20260425T190404
CREATED:20251017T161755Z
LAST-MODIFIED:20251017T161755Z
UID:10005183-1789752600-1789763400@k9central.ca
SUMMARY:Hall Booked
DESCRIPTION:
URL:https://k9central.ca/event/hall-booked/2026-09-18/
LOCATION:Indoor Hall\, 2836 Holt Road\, Bowmanville\, Ontario\, L1C 3K7\, Canada
CATEGORIES:Hall
ORGANIZER;CN="K9 Central":MAILTO:info@k9central.ca
END:VEVENT
BEGIN:VEVENT
DTSTART;TZID=America/Toronto:20260921T080000
DTEND;TZID=America/Toronto:20260921T090000
DTSTAMP:20260425T190404
CREATED:20240809T002950Z
LAST-MODIFIED:20240809T004654Z
UID:10001744-1789977600-1789981200@k9central.ca
SUMMARY:Hall Not Available
DESCRIPTION:
URL:https://k9central.ca/event/hall-not-available/2026-09-21/
LOCATION:Indoor Hall\, 2836 Holt Road\, Bowmanville\, Ontario\, L1C 3K7\, Canada
ORGANIZER;CN="K9 Central":MAILTO:info@k9central.ca
END:VEVENT
BEGIN:VEVENT
DTSTART;TZID=America/Toronto:20260921T140000
DTEND;TZID=America/Toronto:20260921T170000
DTSTAMP:20260425T190404
CREATED:20260119T203632Z
LAST-MODIFIED:20260119T203632Z
UID:10006344-1789999200-1790010000@k9central.ca
SUMMARY:Hall in use - cleaning
DESCRIPTION:
URL:https://k9central.ca/event/hall-in-use-cleaning/2026-09-21/
LOCATION:Indoor Hall\, 2836 Holt Road\, Bowmanville\, Ontario\, L1C 3K7\, Canada
CATEGORIES:Hall
ORGANIZER;CN="K9 Central":MAILTO:info@k9central.ca
END:VEVENT
BEGIN:VEVENT
DTSTART;TZID=America/Toronto:20260921T170000
DTEND;TZID=America/Toronto:20260921T210000
DTSTAMP:20260425T190404
CREATED:20251104T005346Z
LAST-MODIFIED:20251104T005346Z
UID:10005529-1790010000-1790024400@k9central.ca
SUMMARY:Hall not available - Classes
DESCRIPTION:
URL:https://k9central.ca/event/hall-not-available-classes/2026-09-21/
LOCATION:Indoor Hall\, 2836 Holt Road\, Bowmanville\, Ontario\, L1C 3K7\, Canada
CATEGORIES:Hall
ORGANIZER;CN="K9 Central":MAILTO:info@k9central.ca
END:VEVENT
BEGIN:VEVENT
DTSTART;TZID=America/Toronto:20260922T080000
DTEND;TZID=America/Toronto:20260922T090000
DTSTAMP:20260425T190404
CREATED:20240809T002950Z
LAST-MODIFIED:20240809T004654Z
UID:10001745-1790064000-1790067600@k9central.ca
SUMMARY:Hall Not Available
DESCRIPTION:
URL:https://k9central.ca/event/hall-not-available/2026-09-22/
LOCATION:Indoor Hall\, 2836 Holt Road\, Bowmanville\, Ontario\, L1C 3K7\, Canada
ORGANIZER;CN="K9 Central":MAILTO:info@k9central.ca
END:VEVENT
BEGIN:VEVENT
DTSTART;TZID=America/Toronto:20260922T180000
DTEND;TZID=America/Toronto:20260922T210000
DTSTAMP:20260425T190404
CREATED:20260113T224845Z
LAST-MODIFIED:20260113T224845Z
UID:10005924-1790100000-1790110800@k9central.ca
SUMMARY:Flyball Practice
DESCRIPTION:
URL:https://k9central.ca/event/flyball-practice/2026-09-22/
LOCATION:Indoor Hall\, 2836 Holt Road\, Bowmanville\, Ontario\, L1C 3K7\, Canada
CATEGORIES:Hall
ORGANIZER;CN="K9 Central":MAILTO:info@k9central.ca
END:VEVENT
BEGIN:VEVENT
DTSTART;TZID=America/Toronto:20260923T080000
DTEND;TZID=America/Toronto:20260923T090000
DTSTAMP:20260425T190404
CREATED:20240809T002950Z
LAST-MODIFIED:20240809T004654Z
UID:10001746-1790150400-1790154000@k9central.ca
SUMMARY:Hall Not Available
DESCRIPTION:
URL:https://k9central.ca/event/hall-not-available/2026-09-23/
LOCATION:Indoor Hall\, 2836 Holt Road\, Bowmanville\, Ontario\, L1C 3K7\, Canada
ORGANIZER;CN="K9 Central":MAILTO:info@k9central.ca
END:VEVENT
BEGIN:VEVENT
DTSTART;TZID=America/Toronto:20260924T140000
DTEND;TZID=America/Toronto:20260924T170000
DTSTAMP:20260425T190404
CREATED:20260119T203632Z
LAST-MODIFIED:20260119T203632Z
UID:10006345-1790258400-1790269200@k9central.ca
SUMMARY:Hall in use - cleaning
DESCRIPTION:
URL:https://k9central.ca/event/hall-in-use-cleaning/2026-09-24/
LOCATION:Indoor Hall\, 2836 Holt Road\, Bowmanville\, Ontario\, L1C 3K7\, Canada
CATEGORIES:Hall
ORGANIZER;CN="K9 Central":MAILTO:info@k9central.ca
END:VEVENT
BEGIN:VEVENT
DTSTART;TZID=America/Toronto:20260924T170000
DTEND;TZID=America/Toronto:20260924T210000
DTSTAMP:20260425T190404
CREATED:20251104T005040Z
LAST-MODIFIED:20251104T005205Z
UID:10005269-1790269200-1790283600@k9central.ca
SUMMARY:Hall not available - Classes
DESCRIPTION:
URL:https://k9central.ca/event/classes/2026-09-24/
LOCATION:Indoor Hall\, 2836 Holt Road\, Bowmanville\, Ontario\, L1C 3K7\, Canada
CATEGORIES:Hall
ORGANIZER;CN="K9 Central":MAILTO:info@k9central.ca
END:VEVENT
BEGIN:VEVENT
DTSTART;TZID=America/Toronto:20260925T080000
DTEND;TZID=America/Toronto:20260925T090000
DTSTAMP:20260425T190404
CREATED:20240809T002950Z
LAST-MODIFIED:20240809T004654Z
UID:10001747-1790323200-1790326800@k9central.ca
SUMMARY:Hall Not Available
DESCRIPTION:
URL:https://k9central.ca/event/hall-not-available/2026-09-25/
LOCATION:Indoor Hall\, 2836 Holt Road\, Bowmanville\, Ontario\, L1C 3K7\, Canada
ORGANIZER;CN="K9 Central":MAILTO:info@k9central.ca
END:VEVENT
BEGIN:VEVENT
DTSTART;TZID=America/Toronto:20260925T173000
DTEND;TZID=America/Toronto:20260925T203000
DTSTAMP:20260425T190404
CREATED:20251017T161755Z
LAST-MODIFIED:20251017T161755Z
UID:10005184-1790357400-1790368200@k9central.ca
SUMMARY:Hall Booked
DESCRIPTION:
URL:https://k9central.ca/event/hall-booked/2026-09-25/
LOCATION:Indoor Hall\, 2836 Holt Road\, Bowmanville\, Ontario\, L1C 3K7\, Canada
CATEGORIES:Hall
ORGANIZER;CN="K9 Central":MAILTO:info@k9central.ca
END:VEVENT
BEGIN:VEVENT
DTSTART;TZID=America/Toronto:20260928T080000
DTEND;TZID=America/Toronto:20260928T090000
DTSTAMP:20260425T190404
CREATED:20240809T002950Z
LAST-MODIFIED:20240809T004654Z
UID:10001748-1790582400-1790586000@k9central.ca
SUMMARY:Hall Not Available
DESCRIPTION:
URL:https://k9central.ca/event/hall-not-available/2026-09-28/
LOCATION:Indoor Hall\, 2836 Holt Road\, Bowmanville\, Ontario\, L1C 3K7\, Canada
ORGANIZER;CN="K9 Central":MAILTO:info@k9central.ca
END:VEVENT
BEGIN:VEVENT
DTSTART;TZID=America/Toronto:20260928T140000
DTEND;TZID=America/Toronto:20260928T170000
DTSTAMP:20260425T190404
CREATED:20260119T203632Z
LAST-MODIFIED:20260119T203632Z
UID:10006346-1790604000-1790614800@k9central.ca
SUMMARY:Hall in use - cleaning
DESCRIPTION:
URL:https://k9central.ca/event/hall-in-use-cleaning/2026-09-28/
LOCATION:Indoor Hall\, 2836 Holt Road\, Bowmanville\, Ontario\, L1C 3K7\, Canada
CATEGORIES:Hall
ORGANIZER;CN="K9 Central":MAILTO:info@k9central.ca
END:VEVENT
BEGIN:VEVENT
DTSTART;TZID=America/Toronto:20260928T170000
DTEND;TZID=America/Toronto:20260928T210000
DTSTAMP:20260425T190404
CREATED:20251104T005346Z
LAST-MODIFIED:20251104T005346Z
UID:10005530-1790614800-1790629200@k9central.ca
SUMMARY:Hall not available - Classes
DESCRIPTION:
URL:https://k9central.ca/event/hall-not-available-classes/2026-09-28/
LOCATION:Indoor Hall\, 2836 Holt Road\, Bowmanville\, Ontario\, L1C 3K7\, Canada
CATEGORIES:Hall
ORGANIZER;CN="K9 Central":MAILTO:info@k9central.ca
END:VEVENT
BEGIN:VEVENT
DTSTART;TZID=America/Toronto:20260929T080000
DTEND;TZID=America/Toronto:20260929T090000
DTSTAMP:20260425T190404
CREATED:20240809T002950Z
LAST-MODIFIED:20240809T004654Z
UID:10001749-1790668800-1790672400@k9central.ca
SUMMARY:Hall Not Available
DESCRIPTION:
URL:https://k9central.ca/event/hall-not-available/2026-09-29/
LOCATION:Indoor Hall\, 2836 Holt Road\, Bowmanville\, Ontario\, L1C 3K7\, Canada
ORGANIZER;CN="K9 Central":MAILTO:info@k9central.ca
END:VEVENT
BEGIN:VEVENT
DTSTART;TZID=America/Toronto:20260929T180000
DTEND;TZID=America/Toronto:20260929T210000
DTSTAMP:20260425T190404
CREATED:20260113T224845Z
LAST-MODIFIED:20260113T224845Z
UID:10005925-1790704800-1790715600@k9central.ca
SUMMARY:Flyball Practice
DESCRIPTION:
URL:https://k9central.ca/event/flyball-practice/2026-09-29/
LOCATION:Indoor Hall\, 2836 Holt Road\, Bowmanville\, Ontario\, L1C 3K7\, Canada
CATEGORIES:Hall
ORGANIZER;CN="K9 Central":MAILTO:info@k9central.ca
END:VEVENT
BEGIN:VEVENT
DTSTART;TZID=America/Toronto:20260930T080000
DTEND;TZID=America/Toronto:20260930T090000
DTSTAMP:20260425T190404
CREATED:20240809T002950Z
LAST-MODIFIED:20240809T004654Z
UID:10001750-1790755200-1790758800@k9central.ca
SUMMARY:Hall Not Available
DESCRIPTION:
URL:https://k9central.ca/event/hall-not-available/2026-09-30/
LOCATION:Indoor Hall\, 2836 Holt Road\, Bowmanville\, Ontario\, L1C 3K7\, Canada
ORGANIZER;CN="K9 Central":MAILTO:info@k9central.ca
END:VEVENT
BEGIN:VEVENT
DTSTART;TZID=America/Toronto:20261001T140000
DTEND;TZID=America/Toronto:20261001T170000
DTSTAMP:20260425T190404
CREATED:20260119T203632Z
LAST-MODIFIED:20260119T203632Z
UID:10006347-1790863200-1790874000@k9central.ca
SUMMARY:Hall in use - cleaning
DESCRIPTION:
URL:https://k9central.ca/event/hall-in-use-cleaning/2026-10-01/
LOCATION:Indoor Hall\, 2836 Holt Road\, Bowmanville\, Ontario\, L1C 3K7\, Canada
CATEGORIES:Hall
ORGANIZER;CN="K9 Central":MAILTO:info@k9central.ca
END:VEVENT
BEGIN:VEVENT
DTSTART;TZID=America/Toronto:20261001T170000
DTEND;TZID=America/Toronto:20261001T210000
DTSTAMP:20260425T190404
CREATED:20251104T005040Z
LAST-MODIFIED:20251104T005205Z
UID:10005270-1790874000-1790888400@k9central.ca
SUMMARY:Hall not available - Classes
DESCRIPTION:
URL:https://k9central.ca/event/classes/2026-10-01/
LOCATION:Indoor Hall\, 2836 Holt Road\, Bowmanville\, Ontario\, L1C 3K7\, Canada
CATEGORIES:Hall
ORGANIZER;CN="K9 Central":MAILTO:info@k9central.ca
END:VEVENT
END:VCALENDAR