BEGIN:VCALENDAR
VERSION:2.0
PRODID:-//K9 Central - ECPv6.15.20//NONSGML v1.0//EN
CALSCALE:GREGORIAN
METHOD:PUBLISH
X-ORIGINAL-URL:https://k9central.ca
X-WR-CALDESC:Events for K9 Central
REFRESH-INTERVAL;VALUE=DURATION:PT1H
X-Robots-Tag:noindex
X-PUBLISHED-TTL:PT1H
BEGIN:VTIMEZONE
TZID:America/Toronto
BEGIN:DAYLIGHT
TZOFFSETFROM:-0500
TZOFFSETTO:-0400
TZNAME:EDT
DTSTART:20250309T070000
END:DAYLIGHT
BEGIN:STANDARD
TZOFFSETFROM:-0400
TZOFFSETTO:-0500
TZNAME:EST
DTSTART:20251102T060000
END:STANDARD
BEGIN:DAYLIGHT
TZOFFSETFROM:-0500
TZOFFSETTO:-0400
TZNAME:EDT
DTSTART:20260308T070000
END:DAYLIGHT
BEGIN:STANDARD
TZOFFSETFROM:-0400
TZOFFSETTO:-0500
TZNAME:EST
DTSTART:20261101T060000
END:STANDARD
BEGIN:DAYLIGHT
TZOFFSETFROM:-0500
TZOFFSETTO:-0400
TZNAME:EDT
DTSTART:20270314T070000
END:DAYLIGHT
BEGIN:STANDARD
TZOFFSETFROM:-0400
TZOFFSETTO:-0500
TZNAME:EST
DTSTART:20271107T060000
END:STANDARD
END:VTIMEZONE
BEGIN:VEVENT
DTSTART;TZID=America/Toronto:20260810T140000
DTEND;TZID=America/Toronto:20260810T170000
DTSTAMP:20260425T094205
CREATED:20260119T203632Z
LAST-MODIFIED:20260119T203632Z
UID:10006332-1786370400-1786381200@k9central.ca
SUMMARY:Hall in use - cleaning
DESCRIPTION:
URL:https://k9central.ca/event/hall-in-use-cleaning/2026-08-10/
LOCATION:Indoor Hall\, 2836 Holt Road\, Bowmanville\, Ontario\, L1C 3K7\, Canada
CATEGORIES:Hall
ORGANIZER;CN="K9 Central":MAILTO:info@k9central.ca
END:VEVENT
BEGIN:VEVENT
DTSTART;TZID=America/Toronto:20260810T170000
DTEND;TZID=America/Toronto:20260810T210000
DTSTAMP:20260425T094205
CREATED:20251104T005346Z
LAST-MODIFIED:20251104T005346Z
UID:10005523-1786381200-1786395600@k9central.ca
SUMMARY:Hall not available - Classes
DESCRIPTION:
URL:https://k9central.ca/event/hall-not-available-classes/2026-08-10/
LOCATION:Indoor Hall\, 2836 Holt Road\, Bowmanville\, Ontario\, L1C 3K7\, Canada
CATEGORIES:Hall
ORGANIZER;CN="K9 Central":MAILTO:info@k9central.ca
END:VEVENT
BEGIN:VEVENT
DTSTART;TZID=America/Toronto:20260811T080000
DTEND;TZID=America/Toronto:20260811T090000
DTSTAMP:20260425T094205
CREATED:20240809T002950Z
LAST-MODIFIED:20240809T004654Z
UID:10001721-1786435200-1786438800@k9central.ca
SUMMARY:Hall Not Available
DESCRIPTION:
URL:https://k9central.ca/event/hall-not-available/2026-08-11/
LOCATION:Indoor Hall\, 2836 Holt Road\, Bowmanville\, Ontario\, L1C 3K7\, Canada
ORGANIZER;CN="K9 Central":MAILTO:info@k9central.ca
END:VEVENT
BEGIN:VEVENT
DTSTART;TZID=America/Toronto:20260811T180000
DTEND;TZID=America/Toronto:20260811T210000
DTSTAMP:20260425T094205
CREATED:20260113T224845Z
LAST-MODIFIED:20260113T224845Z
UID:10005918-1786471200-1786482000@k9central.ca
SUMMARY:Flyball Practice
DESCRIPTION:
URL:https://k9central.ca/event/flyball-practice/2026-08-11/
LOCATION:Indoor Hall\, 2836 Holt Road\, Bowmanville\, Ontario\, L1C 3K7\, Canada
CATEGORIES:Hall
ORGANIZER;CN="K9 Central":MAILTO:info@k9central.ca
END:VEVENT
BEGIN:VEVENT
DTSTART;TZID=America/Toronto:20260812T080000
DTEND;TZID=America/Toronto:20260812T090000
DTSTAMP:20260425T094205
CREATED:20240809T002950Z
LAST-MODIFIED:20240809T004654Z
UID:10001722-1786521600-1786525200@k9central.ca
SUMMARY:Hall Not Available
DESCRIPTION:
URL:https://k9central.ca/event/hall-not-available/2026-08-12/
LOCATION:Indoor Hall\, 2836 Holt Road\, Bowmanville\, Ontario\, L1C 3K7\, Canada
ORGANIZER;CN="K9 Central":MAILTO:info@k9central.ca
END:VEVENT
BEGIN:VEVENT
DTSTART;TZID=America/Toronto:20260813T140000
DTEND;TZID=America/Toronto:20260813T170000
DTSTAMP:20260425T094205
CREATED:20260119T203632Z
LAST-MODIFIED:20260119T203632Z
UID:10006333-1786629600-1786640400@k9central.ca
SUMMARY:Hall in use - cleaning
DESCRIPTION:
URL:https://k9central.ca/event/hall-in-use-cleaning/2026-08-13/
LOCATION:Indoor Hall\, 2836 Holt Road\, Bowmanville\, Ontario\, L1C 3K7\, Canada
CATEGORIES:Hall
ORGANIZER;CN="K9 Central":MAILTO:info@k9central.ca
END:VEVENT
BEGIN:VEVENT
DTSTART;TZID=America/Toronto:20260813T170000
DTEND;TZID=America/Toronto:20260813T210000
DTSTAMP:20260425T094205
CREATED:20251104T005040Z
LAST-MODIFIED:20251104T005205Z
UID:10005263-1786640400-1786654800@k9central.ca
SUMMARY:Hall not available - Classes
DESCRIPTION:
URL:https://k9central.ca/event/classes/2026-08-13/
LOCATION:Indoor Hall\, 2836 Holt Road\, Bowmanville\, Ontario\, L1C 3K7\, Canada
CATEGORIES:Hall
ORGANIZER;CN="K9 Central":MAILTO:info@k9central.ca
END:VEVENT
BEGIN:VEVENT
DTSTART;TZID=America/Toronto:20260814T080000
DTEND;TZID=America/Toronto:20260814T090000
DTSTAMP:20260425T094205
CREATED:20240809T002950Z
LAST-MODIFIED:20240809T004654Z
UID:10001723-1786694400-1786698000@k9central.ca
SUMMARY:Hall Not Available
DESCRIPTION:
URL:https://k9central.ca/event/hall-not-available/2026-08-14/
LOCATION:Indoor Hall\, 2836 Holt Road\, Bowmanville\, Ontario\, L1C 3K7\, Canada
ORGANIZER;CN="K9 Central":MAILTO:info@k9central.ca
END:VEVENT
BEGIN:VEVENT
DTSTART;TZID=America/Toronto:20260814T173000
DTEND;TZID=America/Toronto:20260814T203000
DTSTAMP:20260425T094205
CREATED:20251017T161755Z
LAST-MODIFIED:20251017T161755Z
UID:10005178-1786728600-1786739400@k9central.ca
SUMMARY:Hall Booked
DESCRIPTION:
URL:https://k9central.ca/event/hall-booked/2026-08-14/
LOCATION:Indoor Hall\, 2836 Holt Road\, Bowmanville\, Ontario\, L1C 3K7\, Canada
CATEGORIES:Hall
ORGANIZER;CN="K9 Central":MAILTO:info@k9central.ca
END:VEVENT
BEGIN:VEVENT
DTSTART;TZID=America/Toronto:20260816T100000
DTEND;TZID=America/Toronto:20260816T130000
DTSTAMP:20260425T094205
CREATED:20260119T200343Z
LAST-MODIFIED:20260119T200343Z
UID:10006273-1786874400-1786885200@k9central.ca
SUMMARY:Hall in Use - Some Ruff Competition
DESCRIPTION:
URL:https://k9central.ca/event/hall-in-use-some-ruff-competition-3/
LOCATION:Indoor Hall\, 2836 Holt Road\, Bowmanville\, Ontario\, L1C 3K7\, Canada
CATEGORIES:Hall
ORGANIZER;CN="K9 Central":MAILTO:info@k9central.ca
END:VEVENT
BEGIN:VEVENT
DTSTART;TZID=America/Toronto:20260817T080000
DTEND;TZID=America/Toronto:20260817T090000
DTSTAMP:20260425T094205
CREATED:20240809T002950Z
LAST-MODIFIED:20240809T004654Z
UID:10001724-1786953600-1786957200@k9central.ca
SUMMARY:Hall Not Available
DESCRIPTION:
URL:https://k9central.ca/event/hall-not-available/2026-08-17/
LOCATION:Indoor Hall\, 2836 Holt Road\, Bowmanville\, Ontario\, L1C 3K7\, Canada
ORGANIZER;CN="K9 Central":MAILTO:info@k9central.ca
END:VEVENT
BEGIN:VEVENT
DTSTART;TZID=America/Toronto:20260817T140000
DTEND;TZID=America/Toronto:20260817T170000
DTSTAMP:20260425T094205
CREATED:20260119T203632Z
LAST-MODIFIED:20260119T203632Z
UID:10006334-1786975200-1786986000@k9central.ca
SUMMARY:Hall in use - cleaning
DESCRIPTION:
URL:https://k9central.ca/event/hall-in-use-cleaning/2026-08-17/
LOCATION:Indoor Hall\, 2836 Holt Road\, Bowmanville\, Ontario\, L1C 3K7\, Canada
CATEGORIES:Hall
ORGANIZER;CN="K9 Central":MAILTO:info@k9central.ca
END:VEVENT
BEGIN:VEVENT
DTSTART;TZID=America/Toronto:20260817T170000
DTEND;TZID=America/Toronto:20260817T210000
DTSTAMP:20260425T094205
CREATED:20251104T005346Z
LAST-MODIFIED:20251104T005346Z
UID:10005524-1786986000-1787000400@k9central.ca
SUMMARY:Hall not available - Classes
DESCRIPTION:
URL:https://k9central.ca/event/hall-not-available-classes/2026-08-17/
LOCATION:Indoor Hall\, 2836 Holt Road\, Bowmanville\, Ontario\, L1C 3K7\, Canada
CATEGORIES:Hall
ORGANIZER;CN="K9 Central":MAILTO:info@k9central.ca
END:VEVENT
BEGIN:VEVENT
DTSTART;TZID=America/Toronto:20260818T080000
DTEND;TZID=America/Toronto:20260818T090000
DTSTAMP:20260425T094205
CREATED:20240809T002950Z
LAST-MODIFIED:20240809T004654Z
UID:10001725-1787040000-1787043600@k9central.ca
SUMMARY:Hall Not Available
DESCRIPTION:
URL:https://k9central.ca/event/hall-not-available/2026-08-18/
LOCATION:Indoor Hall\, 2836 Holt Road\, Bowmanville\, Ontario\, L1C 3K7\, Canada
ORGANIZER;CN="K9 Central":MAILTO:info@k9central.ca
END:VEVENT
BEGIN:VEVENT
DTSTART;TZID=America/Toronto:20260818T180000
DTEND;TZID=America/Toronto:20260818T210000
DTSTAMP:20260425T094205
CREATED:20260113T224845Z
LAST-MODIFIED:20260113T224845Z
UID:10005919-1787076000-1787086800@k9central.ca
SUMMARY:Flyball Practice
DESCRIPTION:
URL:https://k9central.ca/event/flyball-practice/2026-08-18/
LOCATION:Indoor Hall\, 2836 Holt Road\, Bowmanville\, Ontario\, L1C 3K7\, Canada
CATEGORIES:Hall
ORGANIZER;CN="K9 Central":MAILTO:info@k9central.ca
END:VEVENT
BEGIN:VEVENT
DTSTART;TZID=America/Toronto:20260819T080000
DTEND;TZID=America/Toronto:20260819T090000
DTSTAMP:20260425T094205
CREATED:20240809T002950Z
LAST-MODIFIED:20240809T004654Z
UID:10001726-1787126400-1787130000@k9central.ca
SUMMARY:Hall Not Available
DESCRIPTION:
URL:https://k9central.ca/event/hall-not-available/2026-08-19/
LOCATION:Indoor Hall\, 2836 Holt Road\, Bowmanville\, Ontario\, L1C 3K7\, Canada
ORGANIZER;CN="K9 Central":MAILTO:info@k9central.ca
END:VEVENT
BEGIN:VEVENT
DTSTART;TZID=America/Toronto:20260820T140000
DTEND;TZID=America/Toronto:20260820T170000
DTSTAMP:20260425T094205
CREATED:20260119T203632Z
LAST-MODIFIED:20260119T203632Z
UID:10006335-1787234400-1787245200@k9central.ca
SUMMARY:Hall in use - cleaning
DESCRIPTION:
URL:https://k9central.ca/event/hall-in-use-cleaning/2026-08-20/
LOCATION:Indoor Hall\, 2836 Holt Road\, Bowmanville\, Ontario\, L1C 3K7\, Canada
CATEGORIES:Hall
ORGANIZER;CN="K9 Central":MAILTO:info@k9central.ca
END:VEVENT
BEGIN:VEVENT
DTSTART;TZID=America/Toronto:20260820T170000
DTEND;TZID=America/Toronto:20260820T210000
DTSTAMP:20260425T094205
CREATED:20251104T005040Z
LAST-MODIFIED:20251104T005205Z
UID:10005264-1787245200-1787259600@k9central.ca
SUMMARY:Hall not available - Classes
DESCRIPTION:
URL:https://k9central.ca/event/classes/2026-08-20/
LOCATION:Indoor Hall\, 2836 Holt Road\, Bowmanville\, Ontario\, L1C 3K7\, Canada
CATEGORIES:Hall
ORGANIZER;CN="K9 Central":MAILTO:info@k9central.ca
END:VEVENT
BEGIN:VEVENT
DTSTART;TZID=America/Toronto:20260821T080000
DTEND;TZID=America/Toronto:20260821T090000
DTSTAMP:20260425T094205
CREATED:20240809T002950Z
LAST-MODIFIED:20240809T004654Z
UID:10001727-1787299200-1787302800@k9central.ca
SUMMARY:Hall Not Available
DESCRIPTION:
URL:https://k9central.ca/event/hall-not-available/2026-08-21/
LOCATION:Indoor Hall\, 2836 Holt Road\, Bowmanville\, Ontario\, L1C 3K7\, Canada
ORGANIZER;CN="K9 Central":MAILTO:info@k9central.ca
END:VEVENT
BEGIN:VEVENT
DTSTART;TZID=America/Toronto:20260821T173000
DTEND;TZID=America/Toronto:20260821T203000
DTSTAMP:20260425T094205
CREATED:20251017T161755Z
LAST-MODIFIED:20251017T161755Z
UID:10005179-1787333400-1787344200@k9central.ca
SUMMARY:Hall Booked
DESCRIPTION:
URL:https://k9central.ca/event/hall-booked/2026-08-21/
LOCATION:Indoor Hall\, 2836 Holt Road\, Bowmanville\, Ontario\, L1C 3K7\, Canada
CATEGORIES:Hall
ORGANIZER;CN="K9 Central":MAILTO:info@k9central.ca
END:VEVENT
BEGIN:VEVENT
DTSTART;TZID=America/Toronto:20260824T080000
DTEND;TZID=America/Toronto:20260824T090000
DTSTAMP:20260425T094205
CREATED:20240809T002950Z
LAST-MODIFIED:20240809T004654Z
UID:10001728-1787558400-1787562000@k9central.ca
SUMMARY:Hall Not Available
DESCRIPTION:
URL:https://k9central.ca/event/hall-not-available/2026-08-24/
LOCATION:Indoor Hall\, 2836 Holt Road\, Bowmanville\, Ontario\, L1C 3K7\, Canada
ORGANIZER;CN="K9 Central":MAILTO:info@k9central.ca
END:VEVENT
BEGIN:VEVENT
DTSTART;TZID=America/Toronto:20260824T140000
DTEND;TZID=America/Toronto:20260824T170000
DTSTAMP:20260425T094205
CREATED:20260119T203632Z
LAST-MODIFIED:20260119T203632Z
UID:10006336-1787580000-1787590800@k9central.ca
SUMMARY:Hall in use - cleaning
DESCRIPTION:
URL:https://k9central.ca/event/hall-in-use-cleaning/2026-08-24/
LOCATION:Indoor Hall\, 2836 Holt Road\, Bowmanville\, Ontario\, L1C 3K7\, Canada
CATEGORIES:Hall
ORGANIZER;CN="K9 Central":MAILTO:info@k9central.ca
END:VEVENT
BEGIN:VEVENT
DTSTART;TZID=America/Toronto:20260824T170000
DTEND;TZID=America/Toronto:20260824T210000
DTSTAMP:20260425T094205
CREATED:20251104T005346Z
LAST-MODIFIED:20251104T005346Z
UID:10005525-1787590800-1787605200@k9central.ca
SUMMARY:Hall not available - Classes
DESCRIPTION:
URL:https://k9central.ca/event/hall-not-available-classes/2026-08-24/
LOCATION:Indoor Hall\, 2836 Holt Road\, Bowmanville\, Ontario\, L1C 3K7\, Canada
CATEGORIES:Hall
ORGANIZER;CN="K9 Central":MAILTO:info@k9central.ca
END:VEVENT
BEGIN:VEVENT
DTSTART;TZID=America/Toronto:20260825T080000
DTEND;TZID=America/Toronto:20260825T090000
DTSTAMP:20260425T094205
CREATED:20240809T002950Z
LAST-MODIFIED:20240809T004654Z
UID:10001729-1787644800-1787648400@k9central.ca
SUMMARY:Hall Not Available
DESCRIPTION:
URL:https://k9central.ca/event/hall-not-available/2026-08-25/
LOCATION:Indoor Hall\, 2836 Holt Road\, Bowmanville\, Ontario\, L1C 3K7\, Canada
ORGANIZER;CN="K9 Central":MAILTO:info@k9central.ca
END:VEVENT
BEGIN:VEVENT
DTSTART;TZID=America/Toronto:20260825T180000
DTEND;TZID=America/Toronto:20260825T210000
DTSTAMP:20260425T094205
CREATED:20260113T224845Z
LAST-MODIFIED:20260113T224845Z
UID:10005920-1787680800-1787691600@k9central.ca
SUMMARY:Flyball Practice
DESCRIPTION:
URL:https://k9central.ca/event/flyball-practice/2026-08-25/
LOCATION:Indoor Hall\, 2836 Holt Road\, Bowmanville\, Ontario\, L1C 3K7\, Canada
CATEGORIES:Hall
ORGANIZER;CN="K9 Central":MAILTO:info@k9central.ca
END:VEVENT
BEGIN:VEVENT
DTSTART;TZID=America/Toronto:20260826T080000
DTEND;TZID=America/Toronto:20260826T090000
DTSTAMP:20260425T094205
CREATED:20240809T002950Z
LAST-MODIFIED:20240809T004654Z
UID:10001730-1787731200-1787734800@k9central.ca
SUMMARY:Hall Not Available
DESCRIPTION:
URL:https://k9central.ca/event/hall-not-available/2026-08-26/
LOCATION:Indoor Hall\, 2836 Holt Road\, Bowmanville\, Ontario\, L1C 3K7\, Canada
ORGANIZER;CN="K9 Central":MAILTO:info@k9central.ca
END:VEVENT
BEGIN:VEVENT
DTSTART;TZID=America/Toronto:20260827T140000
DTEND;TZID=America/Toronto:20260827T170000
DTSTAMP:20260425T094205
CREATED:20260119T203632Z
LAST-MODIFIED:20260119T203632Z
UID:10006337-1787839200-1787850000@k9central.ca
SUMMARY:Hall in use - cleaning
DESCRIPTION:
URL:https://k9central.ca/event/hall-in-use-cleaning/2026-08-27/
LOCATION:Indoor Hall\, 2836 Holt Road\, Bowmanville\, Ontario\, L1C 3K7\, Canada
CATEGORIES:Hall
ORGANIZER;CN="K9 Central":MAILTO:info@k9central.ca
END:VEVENT
BEGIN:VEVENT
DTSTART;TZID=America/Toronto:20260827T170000
DTEND;TZID=America/Toronto:20260827T210000
DTSTAMP:20260425T094205
CREATED:20251104T005040Z
LAST-MODIFIED:20251104T005205Z
UID:10005265-1787850000-1787864400@k9central.ca
SUMMARY:Hall not available - Classes
DESCRIPTION:
URL:https://k9central.ca/event/classes/2026-08-27/
LOCATION:Indoor Hall\, 2836 Holt Road\, Bowmanville\, Ontario\, L1C 3K7\, Canada
CATEGORIES:Hall
ORGANIZER;CN="K9 Central":MAILTO:info@k9central.ca
END:VEVENT
BEGIN:VEVENT
DTSTART;TZID=America/Toronto:20260828T080000
DTEND;TZID=America/Toronto:20260828T090000
DTSTAMP:20260425T094205
CREATED:20240809T002950Z
LAST-MODIFIED:20240809T004654Z
UID:10001731-1787904000-1787907600@k9central.ca
SUMMARY:Hall Not Available
DESCRIPTION:
URL:https://k9central.ca/event/hall-not-available/2026-08-28/
LOCATION:Indoor Hall\, 2836 Holt Road\, Bowmanville\, Ontario\, L1C 3K7\, Canada
ORGANIZER;CN="K9 Central":MAILTO:info@k9central.ca
END:VEVENT
BEGIN:VEVENT
DTSTART;TZID=America/Toronto:20260828T173000
DTEND;TZID=America/Toronto:20260828T203000
DTSTAMP:20260425T094205
CREATED:20251017T161755Z
LAST-MODIFIED:20251017T161755Z
UID:10005180-1787938200-1787949000@k9central.ca
SUMMARY:Hall Booked
DESCRIPTION:
URL:https://k9central.ca/event/hall-booked/2026-08-28/
LOCATION:Indoor Hall\, 2836 Holt Road\, Bowmanville\, Ontario\, L1C 3K7\, Canada
CATEGORIES:Hall
ORGANIZER;CN="K9 Central":MAILTO:info@k9central.ca
END:VEVENT
END:VCALENDAR