BEGIN:VCALENDAR
VERSION:2.0
PRODID:-//K9 Central - ECPv6.15.20//NONSGML v1.0//EN
CALSCALE:GREGORIAN
METHOD:PUBLISH
X-ORIGINAL-URL:https://k9central.ca
X-WR-CALDESC:Events for K9 Central
REFRESH-INTERVAL;VALUE=DURATION:PT1H
X-Robots-Tag:noindex
X-PUBLISHED-TTL:PT1H
BEGIN:VTIMEZONE
TZID:America/Toronto
BEGIN:DAYLIGHT
TZOFFSETFROM:-0500
TZOFFSETTO:-0400
TZNAME:EDT
DTSTART:20250309T070000
END:DAYLIGHT
BEGIN:STANDARD
TZOFFSETFROM:-0400
TZOFFSETTO:-0500
TZNAME:EST
DTSTART:20251102T060000
END:STANDARD
BEGIN:DAYLIGHT
TZOFFSETFROM:-0500
TZOFFSETTO:-0400
TZNAME:EDT
DTSTART:20260308T070000
END:DAYLIGHT
BEGIN:STANDARD
TZOFFSETFROM:-0400
TZOFFSETTO:-0500
TZNAME:EST
DTSTART:20261101T060000
END:STANDARD
BEGIN:DAYLIGHT
TZOFFSETFROM:-0500
TZOFFSETTO:-0400
TZNAME:EDT
DTSTART:20270314T070000
END:DAYLIGHT
BEGIN:STANDARD
TZOFFSETFROM:-0400
TZOFFSETTO:-0500
TZNAME:EST
DTSTART:20271107T060000
END:STANDARD
END:VTIMEZONE
BEGIN:VEVENT
DTSTART;TZID=America/Toronto:20260714T080000
DTEND;TZID=America/Toronto:20260714T090000
DTSTAMP:20260424T044948
CREATED:20240809T002950Z
LAST-MODIFIED:20240809T004654Z
UID:10001705-1784016000-1784019600@k9central.ca
SUMMARY:Hall Not Available
DESCRIPTION:
URL:https://k9central.ca/event/hall-not-available/2026-07-14/
LOCATION:Indoor Hall\, 2836 Holt Road\, Bowmanville\, Ontario\, L1C 3K7\, Canada
ORGANIZER;CN="K9 Central":MAILTO:info@k9central.ca
END:VEVENT
BEGIN:VEVENT
DTSTART;TZID=America/Toronto:20260714T180000
DTEND;TZID=America/Toronto:20260714T210000
DTSTAMP:20260424T044948
CREATED:20260113T224845Z
LAST-MODIFIED:20260113T224845Z
UID:10005914-1784052000-1784062800@k9central.ca
SUMMARY:Flyball Practice
DESCRIPTION:
URL:https://k9central.ca/event/flyball-practice/2026-07-14/
LOCATION:Indoor Hall\, 2836 Holt Road\, Bowmanville\, Ontario\, L1C 3K7\, Canada
CATEGORIES:Hall
ORGANIZER;CN="K9 Central":MAILTO:info@k9central.ca
END:VEVENT
BEGIN:VEVENT
DTSTART;TZID=America/Toronto:20260715T080000
DTEND;TZID=America/Toronto:20260715T090000
DTSTAMP:20260424T044948
CREATED:20240809T002950Z
LAST-MODIFIED:20240809T004654Z
UID:10001706-1784102400-1784106000@k9central.ca
SUMMARY:Hall Not Available
DESCRIPTION:
URL:https://k9central.ca/event/hall-not-available/2026-07-15/
LOCATION:Indoor Hall\, 2836 Holt Road\, Bowmanville\, Ontario\, L1C 3K7\, Canada
ORGANIZER;CN="K9 Central":MAILTO:info@k9central.ca
END:VEVENT
BEGIN:VEVENT
DTSTART;TZID=America/Toronto:20260716T140000
DTEND;TZID=America/Toronto:20260716T170000
DTSTAMP:20260424T044948
CREATED:20260119T203632Z
LAST-MODIFIED:20260119T203632Z
UID:10006325-1784210400-1784221200@k9central.ca
SUMMARY:Hall in use - cleaning
DESCRIPTION:
URL:https://k9central.ca/event/hall-in-use-cleaning/2026-07-16/
LOCATION:Indoor Hall\, 2836 Holt Road\, Bowmanville\, Ontario\, L1C 3K7\, Canada
CATEGORIES:Hall
ORGANIZER;CN="K9 Central":MAILTO:info@k9central.ca
END:VEVENT
BEGIN:VEVENT
DTSTART;TZID=America/Toronto:20260716T170000
DTEND;TZID=America/Toronto:20260716T210000
DTSTAMP:20260424T044948
CREATED:20251104T005040Z
LAST-MODIFIED:20251104T005205Z
UID:10005259-1784221200-1784235600@k9central.ca
SUMMARY:Hall not available - Classes
DESCRIPTION:
URL:https://k9central.ca/event/classes/2026-07-16/
LOCATION:Indoor Hall\, 2836 Holt Road\, Bowmanville\, Ontario\, L1C 3K7\, Canada
CATEGORIES:Hall
ORGANIZER;CN="K9 Central":MAILTO:info@k9central.ca
END:VEVENT
BEGIN:VEVENT
DTSTART;TZID=America/Toronto:20260717T080000
DTEND;TZID=America/Toronto:20260717T090000
DTSTAMP:20260424T044948
CREATED:20240809T002950Z
LAST-MODIFIED:20240809T004654Z
UID:10001707-1784275200-1784278800@k9central.ca
SUMMARY:Hall Not Available
DESCRIPTION:
URL:https://k9central.ca/event/hall-not-available/2026-07-17/
LOCATION:Indoor Hall\, 2836 Holt Road\, Bowmanville\, Ontario\, L1C 3K7\, Canada
ORGANIZER;CN="K9 Central":MAILTO:info@k9central.ca
END:VEVENT
BEGIN:VEVENT
DTSTART;TZID=America/Toronto:20260717T173000
DTEND;TZID=America/Toronto:20260717T203000
DTSTAMP:20260424T044948
CREATED:20251017T161755Z
LAST-MODIFIED:20251017T161755Z
UID:10005174-1784309400-1784320200@k9central.ca
SUMMARY:Hall Booked
DESCRIPTION:
URL:https://k9central.ca/event/hall-booked/2026-07-17/
LOCATION:Indoor Hall\, 2836 Holt Road\, Bowmanville\, Ontario\, L1C 3K7\, Canada
CATEGORIES:Hall
ORGANIZER;CN="K9 Central":MAILTO:info@k9central.ca
END:VEVENT
BEGIN:VEVENT
DTSTART;TZID=America/Toronto:20260720T080000
DTEND;TZID=America/Toronto:20260720T090000
DTSTAMP:20260424T044948
CREATED:20240809T002950Z
LAST-MODIFIED:20240809T004654Z
UID:10001708-1784534400-1784538000@k9central.ca
SUMMARY:Hall Not Available
DESCRIPTION:
URL:https://k9central.ca/event/hall-not-available/2026-07-20/
LOCATION:Indoor Hall\, 2836 Holt Road\, Bowmanville\, Ontario\, L1C 3K7\, Canada
ORGANIZER;CN="K9 Central":MAILTO:info@k9central.ca
END:VEVENT
BEGIN:VEVENT
DTSTART;TZID=America/Toronto:20260720T140000
DTEND;TZID=America/Toronto:20260720T170000
DTSTAMP:20260424T044948
CREATED:20260119T203632Z
LAST-MODIFIED:20260119T203632Z
UID:10006326-1784556000-1784566800@k9central.ca
SUMMARY:Hall in use - cleaning
DESCRIPTION:
URL:https://k9central.ca/event/hall-in-use-cleaning/2026-07-20/
LOCATION:Indoor Hall\, 2836 Holt Road\, Bowmanville\, Ontario\, L1C 3K7\, Canada
CATEGORIES:Hall
ORGANIZER;CN="K9 Central":MAILTO:info@k9central.ca
END:VEVENT
BEGIN:VEVENT
DTSTART;TZID=America/Toronto:20260720T170000
DTEND;TZID=America/Toronto:20260720T210000
DTSTAMP:20260424T044948
CREATED:20251104T005346Z
LAST-MODIFIED:20251104T005346Z
UID:10005520-1784566800-1784581200@k9central.ca
SUMMARY:Hall not available - Classes
DESCRIPTION:
URL:https://k9central.ca/event/hall-not-available-classes/2026-07-20/
LOCATION:Indoor Hall\, 2836 Holt Road\, Bowmanville\, Ontario\, L1C 3K7\, Canada
CATEGORIES:Hall
ORGANIZER;CN="K9 Central":MAILTO:info@k9central.ca
END:VEVENT
BEGIN:VEVENT
DTSTART;TZID=America/Toronto:20260721T080000
DTEND;TZID=America/Toronto:20260721T090000
DTSTAMP:20260424T044948
CREATED:20240809T002950Z
LAST-MODIFIED:20240809T004654Z
UID:10001709-1784620800-1784624400@k9central.ca
SUMMARY:Hall Not Available
DESCRIPTION:
URL:https://k9central.ca/event/hall-not-available/2026-07-21/
LOCATION:Indoor Hall\, 2836 Holt Road\, Bowmanville\, Ontario\, L1C 3K7\, Canada
ORGANIZER;CN="K9 Central":MAILTO:info@k9central.ca
END:VEVENT
BEGIN:VEVENT
DTSTART;TZID=America/Toronto:20260721T180000
DTEND;TZID=America/Toronto:20260721T210000
DTSTAMP:20260424T044948
CREATED:20260113T224845Z
LAST-MODIFIED:20260113T224845Z
UID:10005915-1784656800-1784667600@k9central.ca
SUMMARY:Flyball Practice
DESCRIPTION:
URL:https://k9central.ca/event/flyball-practice/2026-07-21/
LOCATION:Indoor Hall\, 2836 Holt Road\, Bowmanville\, Ontario\, L1C 3K7\, Canada
CATEGORIES:Hall
ORGANIZER;CN="K9 Central":MAILTO:info@k9central.ca
END:VEVENT
BEGIN:VEVENT
DTSTART;TZID=America/Toronto:20260722T080000
DTEND;TZID=America/Toronto:20260722T090000
DTSTAMP:20260424T044948
CREATED:20240809T002950Z
LAST-MODIFIED:20240809T004654Z
UID:10001710-1784707200-1784710800@k9central.ca
SUMMARY:Hall Not Available
DESCRIPTION:
URL:https://k9central.ca/event/hall-not-available/2026-07-22/
LOCATION:Indoor Hall\, 2836 Holt Road\, Bowmanville\, Ontario\, L1C 3K7\, Canada
ORGANIZER;CN="K9 Central":MAILTO:info@k9central.ca
END:VEVENT
BEGIN:VEVENT
DTSTART;TZID=America/Toronto:20260723T140000
DTEND;TZID=America/Toronto:20260723T170000
DTSTAMP:20260424T044948
CREATED:20260119T203632Z
LAST-MODIFIED:20260119T203632Z
UID:10006327-1784815200-1784826000@k9central.ca
SUMMARY:Hall in use - cleaning
DESCRIPTION:
URL:https://k9central.ca/event/hall-in-use-cleaning/2026-07-23/
LOCATION:Indoor Hall\, 2836 Holt Road\, Bowmanville\, Ontario\, L1C 3K7\, Canada
CATEGORIES:Hall
ORGANIZER;CN="K9 Central":MAILTO:info@k9central.ca
END:VEVENT
BEGIN:VEVENT
DTSTART;TZID=America/Toronto:20260723T170000
DTEND;TZID=America/Toronto:20260723T210000
DTSTAMP:20260424T044948
CREATED:20251104T005040Z
LAST-MODIFIED:20251104T005205Z
UID:10005260-1784826000-1784840400@k9central.ca
SUMMARY:Hall not available - Classes
DESCRIPTION:
URL:https://k9central.ca/event/classes/2026-07-23/
LOCATION:Indoor Hall\, 2836 Holt Road\, Bowmanville\, Ontario\, L1C 3K7\, Canada
CATEGORIES:Hall
ORGANIZER;CN="K9 Central":MAILTO:info@k9central.ca
END:VEVENT
BEGIN:VEVENT
DTSTART;TZID=America/Toronto:20260724T080000
DTEND;TZID=America/Toronto:20260724T090000
DTSTAMP:20260424T044948
CREATED:20240809T002950Z
LAST-MODIFIED:20240809T004654Z
UID:10001711-1784880000-1784883600@k9central.ca
SUMMARY:Hall Not Available
DESCRIPTION:
URL:https://k9central.ca/event/hall-not-available/2026-07-24/
LOCATION:Indoor Hall\, 2836 Holt Road\, Bowmanville\, Ontario\, L1C 3K7\, Canada
ORGANIZER;CN="K9 Central":MAILTO:info@k9central.ca
END:VEVENT
BEGIN:VEVENT
DTSTART;TZID=America/Toronto:20260724T173000
DTEND;TZID=America/Toronto:20260724T203000
DTSTAMP:20260424T044948
CREATED:20251017T161755Z
LAST-MODIFIED:20251017T161755Z
UID:10005175-1784914200-1784925000@k9central.ca
SUMMARY:Hall Booked
DESCRIPTION:
URL:https://k9central.ca/event/hall-booked/2026-07-24/
LOCATION:Indoor Hall\, 2836 Holt Road\, Bowmanville\, Ontario\, L1C 3K7\, Canada
CATEGORIES:Hall
ORGANIZER;CN="K9 Central":MAILTO:info@k9central.ca
END:VEVENT
BEGIN:VEVENT
DTSTART;TZID=America/Toronto:20260727T080000
DTEND;TZID=America/Toronto:20260727T090000
DTSTAMP:20260424T044948
CREATED:20240809T002950Z
LAST-MODIFIED:20240809T004654Z
UID:10001712-1785139200-1785142800@k9central.ca
SUMMARY:Hall Not Available
DESCRIPTION:
URL:https://k9central.ca/event/hall-not-available/2026-07-27/
LOCATION:Indoor Hall\, 2836 Holt Road\, Bowmanville\, Ontario\, L1C 3K7\, Canada
ORGANIZER;CN="K9 Central":MAILTO:info@k9central.ca
END:VEVENT
BEGIN:VEVENT
DTSTART;TZID=America/Toronto:20260727T140000
DTEND;TZID=America/Toronto:20260727T170000
DTSTAMP:20260424T044948
CREATED:20260119T203632Z
LAST-MODIFIED:20260119T203632Z
UID:10006328-1785160800-1785171600@k9central.ca
SUMMARY:Hall in use - cleaning
DESCRIPTION:
URL:https://k9central.ca/event/hall-in-use-cleaning/2026-07-27/
LOCATION:Indoor Hall\, 2836 Holt Road\, Bowmanville\, Ontario\, L1C 3K7\, Canada
CATEGORIES:Hall
ORGANIZER;CN="K9 Central":MAILTO:info@k9central.ca
END:VEVENT
BEGIN:VEVENT
DTSTART;TZID=America/Toronto:20260727T170000
DTEND;TZID=America/Toronto:20260727T210000
DTSTAMP:20260424T044948
CREATED:20251104T005346Z
LAST-MODIFIED:20251104T005346Z
UID:10005521-1785171600-1785186000@k9central.ca
SUMMARY:Hall not available - Classes
DESCRIPTION:
URL:https://k9central.ca/event/hall-not-available-classes/2026-07-27/
LOCATION:Indoor Hall\, 2836 Holt Road\, Bowmanville\, Ontario\, L1C 3K7\, Canada
CATEGORIES:Hall
ORGANIZER;CN="K9 Central":MAILTO:info@k9central.ca
END:VEVENT
BEGIN:VEVENT
DTSTART;TZID=America/Toronto:20260728T080000
DTEND;TZID=America/Toronto:20260728T090000
DTSTAMP:20260424T044948
CREATED:20240809T002950Z
LAST-MODIFIED:20240809T004654Z
UID:10001713-1785225600-1785229200@k9central.ca
SUMMARY:Hall Not Available
DESCRIPTION:
URL:https://k9central.ca/event/hall-not-available/2026-07-28/
LOCATION:Indoor Hall\, 2836 Holt Road\, Bowmanville\, Ontario\, L1C 3K7\, Canada
ORGANIZER;CN="K9 Central":MAILTO:info@k9central.ca
END:VEVENT
BEGIN:VEVENT
DTSTART;TZID=America/Toronto:20260728T180000
DTEND;TZID=America/Toronto:20260728T210000
DTSTAMP:20260424T044948
CREATED:20260113T224845Z
LAST-MODIFIED:20260113T224845Z
UID:10005916-1785261600-1785272400@k9central.ca
SUMMARY:Flyball Practice
DESCRIPTION:
URL:https://k9central.ca/event/flyball-practice/2026-07-28/
LOCATION:Indoor Hall\, 2836 Holt Road\, Bowmanville\, Ontario\, L1C 3K7\, Canada
CATEGORIES:Hall
ORGANIZER;CN="K9 Central":MAILTO:info@k9central.ca
END:VEVENT
BEGIN:VEVENT
DTSTART;TZID=America/Toronto:20260729T080000
DTEND;TZID=America/Toronto:20260729T090000
DTSTAMP:20260424T044948
CREATED:20240809T002950Z
LAST-MODIFIED:20240809T004654Z
UID:10001714-1785312000-1785315600@k9central.ca
SUMMARY:Hall Not Available
DESCRIPTION:
URL:https://k9central.ca/event/hall-not-available/2026-07-29/
LOCATION:Indoor Hall\, 2836 Holt Road\, Bowmanville\, Ontario\, L1C 3K7\, Canada
ORGANIZER;CN="K9 Central":MAILTO:info@k9central.ca
END:VEVENT
BEGIN:VEVENT
DTSTART;TZID=America/Toronto:20260730T140000
DTEND;TZID=America/Toronto:20260730T170000
DTSTAMP:20260424T044948
CREATED:20260119T203632Z
LAST-MODIFIED:20260119T203632Z
UID:10006329-1785420000-1785430800@k9central.ca
SUMMARY:Hall in use - cleaning
DESCRIPTION:
URL:https://k9central.ca/event/hall-in-use-cleaning/2026-07-30/
LOCATION:Indoor Hall\, 2836 Holt Road\, Bowmanville\, Ontario\, L1C 3K7\, Canada
CATEGORIES:Hall
ORGANIZER;CN="K9 Central":MAILTO:info@k9central.ca
END:VEVENT
BEGIN:VEVENT
DTSTART;TZID=America/Toronto:20260730T170000
DTEND;TZID=America/Toronto:20260730T210000
DTSTAMP:20260424T044948
CREATED:20251104T005040Z
LAST-MODIFIED:20251104T005205Z
UID:10005261-1785430800-1785445200@k9central.ca
SUMMARY:Hall not available - Classes
DESCRIPTION:
URL:https://k9central.ca/event/classes/2026-07-30/
LOCATION:Indoor Hall\, 2836 Holt Road\, Bowmanville\, Ontario\, L1C 3K7\, Canada
CATEGORIES:Hall
ORGANIZER;CN="K9 Central":MAILTO:info@k9central.ca
END:VEVENT
BEGIN:VEVENT
DTSTART;TZID=America/Toronto:20260731T080000
DTEND;TZID=America/Toronto:20260731T090000
DTSTAMP:20260424T044948
CREATED:20240809T002950Z
LAST-MODIFIED:20240809T004654Z
UID:10001715-1785484800-1785488400@k9central.ca
SUMMARY:Hall Not Available
DESCRIPTION:
URL:https://k9central.ca/event/hall-not-available/2026-07-31/
LOCATION:Indoor Hall\, 2836 Holt Road\, Bowmanville\, Ontario\, L1C 3K7\, Canada
ORGANIZER;CN="K9 Central":MAILTO:info@k9central.ca
END:VEVENT
BEGIN:VEVENT
DTSTART;TZID=America/Toronto:20260731T173000
DTEND;TZID=America/Toronto:20260731T203000
DTSTAMP:20260424T044948
CREATED:20251017T161755Z
LAST-MODIFIED:20251017T161755Z
UID:10005176-1785519000-1785529800@k9central.ca
SUMMARY:Hall Booked
DESCRIPTION:
URL:https://k9central.ca/event/hall-booked/2026-07-31/
LOCATION:Indoor Hall\, 2836 Holt Road\, Bowmanville\, Ontario\, L1C 3K7\, Canada
CATEGORIES:Hall
ORGANIZER;CN="K9 Central":MAILTO:info@k9central.ca
END:VEVENT
BEGIN:VEVENT
DTSTART;TZID=America/Toronto:20260803T080000
DTEND;TZID=America/Toronto:20260803T090000
DTSTAMP:20260424T044948
CREATED:20240809T002950Z
LAST-MODIFIED:20240809T004654Z
UID:10001716-1785744000-1785747600@k9central.ca
SUMMARY:Hall Not Available
DESCRIPTION:
URL:https://k9central.ca/event/hall-not-available/2026-08-03/
LOCATION:Indoor Hall\, 2836 Holt Road\, Bowmanville\, Ontario\, L1C 3K7\, Canada
ORGANIZER;CN="K9 Central":MAILTO:info@k9central.ca
END:VEVENT
BEGIN:VEVENT
DTSTART;TZID=America/Toronto:20260803T140000
DTEND;TZID=America/Toronto:20260803T170000
DTSTAMP:20260424T044948
CREATED:20260119T203632Z
LAST-MODIFIED:20260119T203632Z
UID:10006330-1785765600-1785776400@k9central.ca
SUMMARY:Hall in use - cleaning
DESCRIPTION:
URL:https://k9central.ca/event/hall-in-use-cleaning/2026-08-03/
LOCATION:Indoor Hall\, 2836 Holt Road\, Bowmanville\, Ontario\, L1C 3K7\, Canada
CATEGORIES:Hall
ORGANIZER;CN="K9 Central":MAILTO:info@k9central.ca
END:VEVENT
BEGIN:VEVENT
DTSTART;TZID=America/Toronto:20260803T170000
DTEND;TZID=America/Toronto:20260803T210000
DTSTAMP:20260424T044948
CREATED:20251104T005346Z
LAST-MODIFIED:20251104T005346Z
UID:10005522-1785776400-1785790800@k9central.ca
SUMMARY:Hall not available - Classes
DESCRIPTION:
URL:https://k9central.ca/event/hall-not-available-classes/2026-08-03/
LOCATION:Indoor Hall\, 2836 Holt Road\, Bowmanville\, Ontario\, L1C 3K7\, Canada
CATEGORIES:Hall
ORGANIZER;CN="K9 Central":MAILTO:info@k9central.ca
END:VEVENT
END:VCALENDAR