BEGIN:VCALENDAR
VERSION:2.0
PRODID:-//K9 Central - ECPv6.15.20//NONSGML v1.0//EN
CALSCALE:GREGORIAN
METHOD:PUBLISH
X-ORIGINAL-URL:https://k9central.ca
X-WR-CALDESC:Events for K9 Central
REFRESH-INTERVAL;VALUE=DURATION:PT1H
X-Robots-Tag:noindex
X-PUBLISHED-TTL:PT1H
BEGIN:VTIMEZONE
TZID:America/Toronto
BEGIN:DAYLIGHT
TZOFFSETFROM:-0500
TZOFFSETTO:-0400
TZNAME:EDT
DTSTART:20240310T070000
END:DAYLIGHT
BEGIN:STANDARD
TZOFFSETFROM:-0400
TZOFFSETTO:-0500
TZNAME:EST
DTSTART:20241103T060000
END:STANDARD
BEGIN:DAYLIGHT
TZOFFSETFROM:-0500
TZOFFSETTO:-0400
TZNAME:EDT
DTSTART:20250309T070000
END:DAYLIGHT
BEGIN:STANDARD
TZOFFSETFROM:-0400
TZOFFSETTO:-0500
TZNAME:EST
DTSTART:20251102T060000
END:STANDARD
BEGIN:DAYLIGHT
TZOFFSETFROM:-0500
TZOFFSETTO:-0400
TZNAME:EDT
DTSTART:20260308T070000
END:DAYLIGHT
BEGIN:STANDARD
TZOFFSETFROM:-0400
TZOFFSETTO:-0500
TZNAME:EST
DTSTART:20261101T060000
END:STANDARD
END:VTIMEZONE
BEGIN:VEVENT
DTSTART;TZID=America/Toronto:20250922T150000
DTEND;TZID=America/Toronto:20250922T153000
DTSTAMP:20260419T124118
CREATED:20240809T173440Z
LAST-MODIFIED:20240809T173440Z
UID:10003712-1758553200-1758555000@k9central.ca
SUMMARY:Jordan
DESCRIPTION:
URL:https://k9central.ca/event/jordan/2025-09-22/
LOCATION:Dog Pool\, 2836 Holt Road\, Bowmanville\, Ontario\, L1C 3K7\, Canada
ORGANIZER;CN="K9 Central":MAILTO:info@k9central.ca
END:VEVENT
BEGIN:VEVENT
DTSTART;TZID=America/Toronto:20250922T140000
DTEND;TZID=America/Toronto:20250922T143000
DTSTAMP:20260419T124118
CREATED:20250922T144020Z
LAST-MODIFIED:20250922T173832Z
UID:10005091-1758549600-1758551400@k9central.ca
SUMMARY:Pool - Titan
DESCRIPTION:
URL:https://k9central.ca/event/pool-titan/
LOCATION:Dog Pool\, 2836 Holt Road\, Bowmanville\, Ontario\, L1C 3K7\, Canada
ORGANIZER;CN="K9 Central":MAILTO:info@k9central.ca
END:VEVENT
BEGIN:VEVENT
DTSTART;TZID=America/Toronto:20250922T133000
DTEND;TZID=America/Toronto:20250922T143000
DTSTAMP:20260419T124118
CREATED:20250922T145654Z
LAST-MODIFIED:20250922T145654Z
UID:10005092-1758547800-1758551400@k9central.ca
SUMMARY:Pool - Carol
DESCRIPTION:
URL:https://k9central.ca/event/pool-carol-4/
LOCATION:Dog Pool\, 2836 Holt Road\, Bowmanville\, Ontario\, L1C 3K7\, Canada
ORGANIZER;CN="K9 Central":MAILTO:info@k9central.ca
END:VEVENT
BEGIN:VEVENT
DTSTART;TZID=America/Toronto:20250922T110000
DTEND;TZID=America/Toronto:20250922T120000
DTSTAMP:20260419T124118
CREATED:20250919T114937Z
LAST-MODIFIED:20250919T114937Z
UID:10005026-1758538800-1758542400@k9central.ca
SUMMARY:Pool in use - K9
DESCRIPTION:
URL:https://k9central.ca/event/pool-in-use-k9/2025-09-22/
LOCATION:Dog Pool\, 2836 Holt Road\, Bowmanville\, Ontario\, L1C 3K7\, Canada
ORGANIZER;CN="K9 Central":MAILTO:info@k9central.ca
END:VEVENT
BEGIN:VEVENT
DTSTART;TZID=America/Toronto:20250922T100000
DTEND;TZID=America/Toronto:20250922T110000
DTSTAMP:20260419T124118
CREATED:20250919T120156Z
LAST-MODIFIED:20250919T120156Z
UID:10005056-1758535200-1758538800@k9central.ca
SUMMARY:Pool - Carol
DESCRIPTION:
URL:https://k9central.ca/event/pool-carol/
LOCATION:Dog Pool\, 2836 Holt Road\, Bowmanville\, Ontario\, L1C 3K7\, Canada
ORGANIZER;CN="K9 Central":MAILTO:info@k9central.ca
END:VEVENT
BEGIN:VEVENT
DTSTART;TZID=America/Toronto:20250922T070000
DTEND;TZID=America/Toronto:20250922T080000
DTSTAMP:20260419T124118
CREATED:20250919T120044Z
LAST-MODIFIED:20250919T124459Z
UID:10005051-1758524400-1758528000@k9central.ca
SUMMARY:Pool - Stacy H
DESCRIPTION:
URL:https://k9central.ca/event/pool-stacy-h/2025-09-22/
LOCATION:Dog Pool\, 2836 Holt Road\, Bowmanville\, Ontario\, L1C 3K7\, Canada
ORGANIZER;CN="K9 Central":MAILTO:info@k9central.ca
END:VEVENT
BEGIN:VEVENT
DTSTART;TZID=America/Toronto:20250921T160000
DTEND;TZID=America/Toronto:20250921T170000
DTSTAMP:20260419T124118
CREATED:20250919T115913Z
LAST-MODIFIED:20250919T115913Z
UID:10005050-1758470400-1758474000@k9central.ca
SUMMARY:Pool - Tammy Turner
DESCRIPTION:
URL:https://k9central.ca/event/pool-tammy-turner/
LOCATION:Dog Pool\, 2836 Holt Road\, Bowmanville\, Ontario\, L1C 3K7\, Canada
ORGANIZER;CN="K9 Central":MAILTO:info@k9central.ca
END:VEVENT
BEGIN:VEVENT
DTSTART;TZID=America/Toronto:20250921T120000
DTEND;TZID=America/Toronto:20250921T130000
DTSTAMP:20260419T124118
CREATED:20250919T115619Z
LAST-MODIFIED:20250919T115619Z
UID:10005049-1758456000-1758459600@k9central.ca
SUMMARY:Pool - Ashley Freel
DESCRIPTION:
URL:https://k9central.ca/event/pool-ashley-freel/
LOCATION:Dog Pool\, 2836 Holt Road\, Bowmanville\, Ontario\, L1C 3K7\, Canada
ORGANIZER;CN="K9 Central":MAILTO:info@k9central.ca
END:VEVENT
BEGIN:VEVENT
DTSTART;TZID=America/Toronto:20250921T110000
DTEND;TZID=America/Toronto:20250921T120000
DTSTAMP:20260419T124118
CREATED:20250919T114937Z
LAST-MODIFIED:20250919T114937Z
UID:10005025-1758452400-1758456000@k9central.ca
SUMMARY:Pool in use - K9
DESCRIPTION:
URL:https://k9central.ca/event/pool-in-use-k9/2025-09-21/
LOCATION:Dog Pool\, 2836 Holt Road\, Bowmanville\, Ontario\, L1C 3K7\, Canada
ORGANIZER;CN="K9 Central":MAILTO:info@k9central.ca
END:VEVENT
BEGIN:VEVENT
DTSTART;TZID=America/Toronto:20250920T110000
DTEND;TZID=America/Toronto:20250920T120000
DTSTAMP:20260419T124118
CREATED:20250919T114937Z
LAST-MODIFIED:20250919T114937Z
UID:10005024-1758366000-1758369600@k9central.ca
SUMMARY:Pool in use - K9
DESCRIPTION:
URL:https://k9central.ca/event/pool-in-use-k9/2025-09-20/
LOCATION:Dog Pool\, 2836 Holt Road\, Bowmanville\, Ontario\, L1C 3K7\, Canada
ORGANIZER;CN="K9 Central":MAILTO:info@k9central.ca
END:VEVENT
BEGIN:VEVENT
DTSTART;TZID=America/Toronto:20250919T190000
DTEND;TZID=America/Toronto:20250919T200000
DTSTAMP:20260419T124118
CREATED:20250919T115218Z
LAST-MODIFIED:20250919T115218Z
UID:10005048-1758308400-1758312000@k9central.ca
SUMMARY:Pool - Tammy
DESCRIPTION:
URL:https://k9central.ca/event/pool-tammy/
LOCATION:Dog Pool\, 2836 Holt Road\, Bowmanville\, Ontario\, L1C 3K7\, Canada
ORGANIZER;CN="K9 Central":MAILTO:info@k9central.ca
END:VEVENT
BEGIN:VEVENT
DTSTART;TZID=America/Toronto:20250919T180000
DTEND;TZID=America/Toronto:20250919T190000
DTSTAMP:20260419T124118
CREATED:20250919T123913Z
LAST-MODIFIED:20250919T123913Z
UID:10005065-1758304800-1758308400@k9central.ca
SUMMARY:Pool - Lenore
DESCRIPTION:
URL:https://k9central.ca/event/pool-lenore-2/
LOCATION:Dog Pool\, 2836 Holt Road\, Bowmanville\, Ontario\, L1C 3K7\, Canada
ORGANIZER;CN="K9 Central":MAILTO:info@k9central.ca
END:VEVENT
BEGIN:VEVENT
DTSTART;TZID=America/Toronto:20250919T110000
DTEND;TZID=America/Toronto:20250919T120000
DTSTAMP:20260419T124118
CREATED:20250919T114937Z
LAST-MODIFIED:20250919T114937Z
UID:10005023-1758279600-1758283200@k9central.ca
SUMMARY:Pool in use - K9
DESCRIPTION:
URL:https://k9central.ca/event/pool-in-use-k9/2025-09-19/
LOCATION:Dog Pool\, 2836 Holt Road\, Bowmanville\, Ontario\, L1C 3K7\, Canada
ORGANIZER;CN="K9 Central":MAILTO:info@k9central.ca
END:VEVENT
BEGIN:VEVENT
DTSTART;TZID=America/Toronto:20250917T170000
DTEND;TZID=America/Toronto:20250917T210000
DTSTAMP:20260419T124118
CREATED:20250910T113751Z
LAST-MODIFIED:20250910T115703Z
UID:10004970-1758128400-1758142800@k9central.ca
SUMMARY:Dock Private Lessons
DESCRIPTION:
URL:https://k9central.ca/event/dock-classes/2025-09-17/
LOCATION:Dog Pool\, 2836 Holt Road\, Bowmanville\, Ontario\, L1C 3K7\, Canada
ORGANIZER;CN="K9 Central":MAILTO:info@k9central.ca
END:VEVENT
BEGIN:VEVENT
DTSTART;TZID=America/Toronto:20250915T170000
DTEND;TZID=America/Toronto:20250915T210000
DTSTAMP:20260419T124118
CREATED:20250910T121038Z
LAST-MODIFIED:20250910T121038Z
UID:10004977-1757955600-1757970000@k9central.ca
SUMMARY:Dock Classes
DESCRIPTION:
URL:https://k9central.ca/event/dock-classes-2/2025-09-15/
LOCATION:Dog Pool\, 2836 Holt Road\, Bowmanville\, Ontario\, L1C 3K7\, Canada
ORGANIZER;CN="K9 Central":MAILTO:info@k9central.ca
END:VEVENT
BEGIN:VEVENT
DTSTART;TZID=America/Toronto:20250915T150000
DTEND;TZID=America/Toronto:20250915T153000
DTSTAMP:20260419T124118
CREATED:20240809T173440Z
LAST-MODIFIED:20240809T173440Z
UID:10003711-1757948400-1757950200@k9central.ca
SUMMARY:Jordan
DESCRIPTION:
URL:https://k9central.ca/event/jordan/2025-09-15/
LOCATION:Dog Pool\, 2836 Holt Road\, Bowmanville\, Ontario\, L1C 3K7\, Canada
ORGANIZER;CN="K9 Central":MAILTO:info@k9central.ca
END:VEVENT
BEGIN:VEVENT
DTSTART;TZID=America/Toronto:20250910T170000
DTEND;TZID=America/Toronto:20250910T210000
DTSTAMP:20260419T124118
CREATED:20250910T113751Z
LAST-MODIFIED:20250910T115703Z
UID:10004969-1757523600-1757538000@k9central.ca
SUMMARY:Dock Private Lessons
DESCRIPTION:
URL:https://k9central.ca/event/dock-classes/2025-09-10/
LOCATION:Dog Pool\, 2836 Holt Road\, Bowmanville\, Ontario\, L1C 3K7\, Canada
ORGANIZER;CN="K9 Central":MAILTO:info@k9central.ca
END:VEVENT
BEGIN:VEVENT
DTSTART;TZID=America/Toronto:20250909T123000
DTEND;TZID=America/Toronto:20250909T133000
DTSTAMP:20260419T124118
CREATED:20250908T190334Z
LAST-MODIFIED:20250908T190334Z
UID:10004964-1757421000-1757424600@k9central.ca
SUMMARY:Karen-Pool
DESCRIPTION:
URL:https://k9central.ca/event/karen-pool/
LOCATION:Dog Pool\, 2836 Holt Road\, Bowmanville\, Ontario\, L1C 3K7\, Canada
ORGANIZER;CN="K9 Central":MAILTO:info@k9central.ca
END:VEVENT
BEGIN:VEVENT
DTSTART;TZID=America/Toronto:20250908T150000
DTEND;TZID=America/Toronto:20250908T153000
DTSTAMP:20260419T124118
CREATED:20250908T154826Z
LAST-MODIFIED:20250908T154827Z
UID:10003710-1757343600-1757345400@k9central.ca
SUMMARY:Jordan
DESCRIPTION:
URL:https://k9central.ca/event/jordan-2/
LOCATION:Dog Pool\, 2836 Holt Road\, Bowmanville\, Ontario\, L1C 3K7\, Canada
ORGANIZER;CN="K9 Central":MAILTO:info@k9central.ca
END:VEVENT
BEGIN:VEVENT
DTSTART;TZID=America/Toronto:20250901T150000
DTEND;TZID=America/Toronto:20250901T153000
DTSTAMP:20260419T124118
CREATED:20250910T010842Z
LAST-MODIFIED:20250910T010842Z
UID:10003709-1756738800-1756740600@k9central.ca
SUMMARY:Jordan
DESCRIPTION:
URL:https://k9central.ca/event/jordan-3/
LOCATION:Dog Pool\, 2836 Holt Road\, Bowmanville\, Ontario\, L1C 3K7\, Canada
ORGANIZER;CN="K9 Central":MAILTO:info@k9central.ca
END:VEVENT
BEGIN:VEVENT
DTSTART;TZID=America/Toronto:20250825T150000
DTEND;TZID=America/Toronto:20250825T153000
DTSTAMP:20260419T124118
CREATED:20240809T173440Z
LAST-MODIFIED:20240809T173440Z
UID:10003708-1756134000-1756135800@k9central.ca
SUMMARY:Jordan
DESCRIPTION:
URL:https://k9central.ca/event/jordan/2025-08-25/
LOCATION:Dog Pool\, 2836 Holt Road\, Bowmanville\, Ontario\, L1C 3K7\, Canada
ORGANIZER;CN="K9 Central":MAILTO:info@k9central.ca
END:VEVENT
BEGIN:VEVENT
DTSTART;TZID=America/Toronto:20250818T150000
DTEND;TZID=America/Toronto:20250818T153000
DTSTAMP:20260419T124118
CREATED:20240809T173440Z
LAST-MODIFIED:20240809T173440Z
UID:10003707-1755529200-1755531000@k9central.ca
SUMMARY:Jordan
DESCRIPTION:
URL:https://k9central.ca/event/jordan/2025-08-18/
LOCATION:Dog Pool\, 2836 Holt Road\, Bowmanville\, Ontario\, L1C 3K7\, Canada
ORGANIZER;CN="K9 Central":MAILTO:info@k9central.ca
END:VEVENT
BEGIN:VEVENT
DTSTART;TZID=America/Toronto:20250811T150000
DTEND;TZID=America/Toronto:20250811T153000
DTSTAMP:20260419T124118
CREATED:20240809T173440Z
LAST-MODIFIED:20240809T173440Z
UID:10003706-1754924400-1754926200@k9central.ca
SUMMARY:Jordan
DESCRIPTION:
URL:https://k9central.ca/event/jordan/2025-08-11/
LOCATION:Dog Pool\, 2836 Holt Road\, Bowmanville\, Ontario\, L1C 3K7\, Canada
ORGANIZER;CN="K9 Central":MAILTO:info@k9central.ca
END:VEVENT
BEGIN:VEVENT
DTSTART;TZID=America/Toronto:20250804T150000
DTEND;TZID=America/Toronto:20250804T153000
DTSTAMP:20260419T124118
CREATED:20240809T173440Z
LAST-MODIFIED:20240809T173440Z
UID:10003705-1754319600-1754321400@k9central.ca
SUMMARY:Jordan
DESCRIPTION:
URL:https://k9central.ca/event/jordan/2025-08-04/
LOCATION:Dog Pool\, 2836 Holt Road\, Bowmanville\, Ontario\, L1C 3K7\, Canada
ORGANIZER;CN="K9 Central":MAILTO:info@k9central.ca
END:VEVENT
BEGIN:VEVENT
DTSTART;TZID=America/Toronto:20250728T150000
DTEND;TZID=America/Toronto:20250728T153000
DTSTAMP:20260419T124118
CREATED:20240809T173440Z
LAST-MODIFIED:20240809T173440Z
UID:10003704-1753714800-1753716600@k9central.ca
SUMMARY:Jordan
DESCRIPTION:
URL:https://k9central.ca/event/jordan/2025-07-28/
LOCATION:Dog Pool\, 2836 Holt Road\, Bowmanville\, Ontario\, L1C 3K7\, Canada
ORGANIZER;CN="K9 Central":MAILTO:info@k9central.ca
END:VEVENT
BEGIN:VEVENT
DTSTART;TZID=America/Toronto:20250721T150000
DTEND;TZID=America/Toronto:20250721T153000
DTSTAMP:20260419T124118
CREATED:20240809T173440Z
LAST-MODIFIED:20240809T173440Z
UID:10003703-1753110000-1753111800@k9central.ca
SUMMARY:Jordan
DESCRIPTION:
URL:https://k9central.ca/event/jordan/2025-07-21/
LOCATION:Dog Pool\, 2836 Holt Road\, Bowmanville\, Ontario\, L1C 3K7\, Canada
ORGANIZER;CN="K9 Central":MAILTO:info@k9central.ca
END:VEVENT
BEGIN:VEVENT
DTSTART;TZID=America/Toronto:20250714T150000
DTEND;TZID=America/Toronto:20250714T153000
DTSTAMP:20260419T124118
CREATED:20240809T173440Z
LAST-MODIFIED:20240809T173440Z
UID:10003702-1752505200-1752507000@k9central.ca
SUMMARY:Jordan
DESCRIPTION:
URL:https://k9central.ca/event/jordan/2025-07-14/
LOCATION:Dog Pool\, 2836 Holt Road\, Bowmanville\, Ontario\, L1C 3K7\, Canada
ORGANIZER;CN="K9 Central":MAILTO:info@k9central.ca
END:VEVENT
BEGIN:VEVENT
DTSTART;TZID=America/Toronto:20250707T150000
DTEND;TZID=America/Toronto:20250707T153000
DTSTAMP:20260419T124118
CREATED:20240809T173440Z
LAST-MODIFIED:20240809T173440Z
UID:10003701-1751900400-1751902200@k9central.ca
SUMMARY:Jordan
DESCRIPTION:
URL:https://k9central.ca/event/jordan/2025-07-07/
LOCATION:Dog Pool\, 2836 Holt Road\, Bowmanville\, Ontario\, L1C 3K7\, Canada
ORGANIZER;CN="K9 Central":MAILTO:info@k9central.ca
END:VEVENT
BEGIN:VEVENT
DTSTART;TZID=America/Toronto:20250630T150000
DTEND;TZID=America/Toronto:20250630T153000
DTSTAMP:20260419T124118
CREATED:20240809T173440Z
LAST-MODIFIED:20240809T173440Z
UID:10003700-1751295600-1751297400@k9central.ca
SUMMARY:Jordan
DESCRIPTION:
URL:https://k9central.ca/event/jordan/2025-06-30/
LOCATION:Dog Pool\, 2836 Holt Road\, Bowmanville\, Ontario\, L1C 3K7\, Canada
ORGANIZER;CN="K9 Central":MAILTO:info@k9central.ca
END:VEVENT
BEGIN:VEVENT
DTSTART;TZID=America/Toronto:20250623T150000
DTEND;TZID=America/Toronto:20250623T153000
DTSTAMP:20260419T124118
CREATED:20240809T173440Z
LAST-MODIFIED:20240809T173440Z
UID:10003699-1750690800-1750692600@k9central.ca
SUMMARY:Jordan
DESCRIPTION:
URL:https://k9central.ca/event/jordan/2025-06-23/
LOCATION:Dog Pool\, 2836 Holt Road\, Bowmanville\, Ontario\, L1C 3K7\, Canada
ORGANIZER;CN="K9 Central":MAILTO:info@k9central.ca
END:VEVENT
END:VCALENDAR