BEGIN:VCALENDAR
VERSION:2.0
PRODID:-//K9 Central - ECPv6.15.20//NONSGML v1.0//EN
CALSCALE:GREGORIAN
METHOD:PUBLISH
X-ORIGINAL-URL:https://k9central.ca
X-WR-CALDESC:Events for K9 Central
REFRESH-INTERVAL;VALUE=DURATION:PT1H
X-Robots-Tag:noindex
X-PUBLISHED-TTL:PT1H
BEGIN:VTIMEZONE
TZID:America/Toronto
BEGIN:DAYLIGHT
TZOFFSETFROM:-0500
TZOFFSETTO:-0400
TZNAME:EDT
DTSTART:20230312T070000
END:DAYLIGHT
BEGIN:STANDARD
TZOFFSETFROM:-0400
TZOFFSETTO:-0500
TZNAME:EST
DTSTART:20231105T060000
END:STANDARD
BEGIN:DAYLIGHT
TZOFFSETFROM:-0500
TZOFFSETTO:-0400
TZNAME:EDT
DTSTART:20240310T070000
END:DAYLIGHT
BEGIN:STANDARD
TZOFFSETFROM:-0400
TZOFFSETTO:-0500
TZNAME:EST
DTSTART:20241103T060000
END:STANDARD
BEGIN:DAYLIGHT
TZOFFSETFROM:-0500
TZOFFSETTO:-0400
TZNAME:EDT
DTSTART:20250309T070000
END:DAYLIGHT
BEGIN:STANDARD
TZOFFSETFROM:-0400
TZOFFSETTO:-0500
TZNAME:EST
DTSTART:20251102T060000
END:STANDARD
END:VTIMEZONE
BEGIN:VEVENT
DTSTART;TZID=America/Toronto:20240918T110000
DTEND;TZID=America/Toronto:20240918T120000
DTSTAMP:20260425T105712
CREATED:20240809T173213Z
LAST-MODIFIED:20240809T173213Z
UID:10002376-1726657200-1726660800@k9central.ca
SUMMARY:KC9 Pool In Use
DESCRIPTION:
URL:https://k9central.ca/event/kc9-pool-in-use/2024-09-18/
LOCATION:Dog Pool\, 2836 Holt Road\, Bowmanville\, Ontario\, L1C 3K7\, Canada
ORGANIZER;CN="K9 Central":MAILTO:info@k9central.ca
END:VEVENT
BEGIN:VEVENT
DTSTART;TZID=America/Toronto:20240917T110000
DTEND;TZID=America/Toronto:20240917T120000
DTSTAMP:20260425T105712
CREATED:20240809T173213Z
LAST-MODIFIED:20240809T173213Z
UID:10002375-1726570800-1726574400@k9central.ca
SUMMARY:KC9 Pool In Use
DESCRIPTION:
URL:https://k9central.ca/event/kc9-pool-in-use/2024-09-17/
LOCATION:Dog Pool\, 2836 Holt Road\, Bowmanville\, Ontario\, L1C 3K7\, Canada
ORGANIZER;CN="K9 Central":MAILTO:info@k9central.ca
END:VEVENT
BEGIN:VEVENT
DTSTART;TZID=America/Toronto:20240916T170000
DTEND;TZID=America/Toronto:20240916T210000
DTSTAMP:20260425T105712
CREATED:20240809T173533Z
LAST-MODIFIED:20240809T173533Z
UID:10003920-1726506000-1726520400@k9central.ca
SUMMARY:Pool in use - classes
DESCRIPTION:
URL:https://k9central.ca/event/pool-in-use-classes/2024-09-16/
LOCATION:Dog Pool\, 2836 Holt Road\, Bowmanville\, Ontario\, L1C 3K7\, Canada
ORGANIZER;CN="K9 Central":MAILTO:info@k9central.ca
END:VEVENT
BEGIN:VEVENT
DTSTART;TZID=America/Toronto:20240916T150000
DTEND;TZID=America/Toronto:20240916T153000
DTSTAMP:20260425T105712
CREATED:20240809T173440Z
LAST-MODIFIED:20240809T173440Z
UID:10003659-1726498800-1726500600@k9central.ca
SUMMARY:Jordan
DESCRIPTION:
URL:https://k9central.ca/event/jordan/2024-09-16/
LOCATION:Dog Pool\, 2836 Holt Road\, Bowmanville\, Ontario\, L1C 3K7\, Canada
ORGANIZER;CN="K9 Central":MAILTO:info@k9central.ca
END:VEVENT
BEGIN:VEVENT
DTSTART;TZID=America/Toronto:20240916T110000
DTEND;TZID=America/Toronto:20240916T120000
DTSTAMP:20260425T105712
CREATED:20240809T173213Z
LAST-MODIFIED:20240809T173213Z
UID:10002374-1726484400-1726488000@k9central.ca
SUMMARY:KC9 Pool In Use
DESCRIPTION:
URL:https://k9central.ca/event/kc9-pool-in-use/2024-09-16/
LOCATION:Dog Pool\, 2836 Holt Road\, Bowmanville\, Ontario\, L1C 3K7\, Canada
ORGANIZER;CN="K9 Central":MAILTO:info@k9central.ca
END:VEVENT
BEGIN:VEVENT
DTSTART;TZID=America/Toronto:20240913T110000
DTEND;TZID=America/Toronto:20240913T120000
DTSTAMP:20260425T105712
CREATED:20240809T173213Z
LAST-MODIFIED:20240809T173213Z
UID:10002373-1726225200-1726228800@k9central.ca
SUMMARY:KC9 Pool In Use
DESCRIPTION:
URL:https://k9central.ca/event/kc9-pool-in-use/2024-09-13/
LOCATION:Dog Pool\, 2836 Holt Road\, Bowmanville\, Ontario\, L1C 3K7\, Canada
ORGANIZER;CN="K9 Central":MAILTO:info@k9central.ca
END:VEVENT
BEGIN:VEVENT
DTSTART;TZID=America/Toronto:20240912T110000
DTEND;TZID=America/Toronto:20240912T120000
DTSTAMP:20260425T105712
CREATED:20240809T173213Z
LAST-MODIFIED:20240809T173213Z
UID:10002372-1726138800-1726142400@k9central.ca
SUMMARY:KC9 Pool In Use
DESCRIPTION:
URL:https://k9central.ca/event/kc9-pool-in-use/2024-09-12/
LOCATION:Dog Pool\, 2836 Holt Road\, Bowmanville\, Ontario\, L1C 3K7\, Canada
ORGANIZER;CN="K9 Central":MAILTO:info@k9central.ca
END:VEVENT
BEGIN:VEVENT
DTSTART;TZID=America/Toronto:20240911T110000
DTEND;TZID=America/Toronto:20240911T120000
DTSTAMP:20260425T105712
CREATED:20240809T173213Z
LAST-MODIFIED:20240809T173213Z
UID:10002371-1726052400-1726056000@k9central.ca
SUMMARY:KC9 Pool In Use
DESCRIPTION:
URL:https://k9central.ca/event/kc9-pool-in-use/2024-09-11/
LOCATION:Dog Pool\, 2836 Holt Road\, Bowmanville\, Ontario\, L1C 3K7\, Canada
ORGANIZER;CN="K9 Central":MAILTO:info@k9central.ca
END:VEVENT
BEGIN:VEVENT
DTSTART;TZID=America/Toronto:20240910T110000
DTEND;TZID=America/Toronto:20240910T120000
DTSTAMP:20260425T105712
CREATED:20240809T173213Z
LAST-MODIFIED:20240809T173213Z
UID:10002370-1725966000-1725969600@k9central.ca
SUMMARY:KC9 Pool In Use
DESCRIPTION:
URL:https://k9central.ca/event/kc9-pool-in-use/2024-09-10/
LOCATION:Dog Pool\, 2836 Holt Road\, Bowmanville\, Ontario\, L1C 3K7\, Canada
ORGANIZER;CN="K9 Central":MAILTO:info@k9central.ca
END:VEVENT
BEGIN:VEVENT
DTSTART;TZID=America/Toronto:20240909T170000
DTEND;TZID=America/Toronto:20240909T210000
DTSTAMP:20260425T105712
CREATED:20240809T173533Z
LAST-MODIFIED:20240809T173533Z
UID:10003919-1725901200-1725915600@k9central.ca
SUMMARY:Pool in use - classes
DESCRIPTION:
URL:https://k9central.ca/event/pool-in-use-classes/2024-09-09/
LOCATION:Dog Pool\, 2836 Holt Road\, Bowmanville\, Ontario\, L1C 3K7\, Canada
ORGANIZER;CN="K9 Central":MAILTO:info@k9central.ca
END:VEVENT
BEGIN:VEVENT
DTSTART;TZID=America/Toronto:20240909T150000
DTEND;TZID=America/Toronto:20240909T153000
DTSTAMP:20260425T105712
CREATED:20240809T173440Z
LAST-MODIFIED:20240809T173440Z
UID:10003658-1725894000-1725895800@k9central.ca
SUMMARY:Jordan
DESCRIPTION:
URL:https://k9central.ca/event/jordan/2024-09-09/
LOCATION:Dog Pool\, 2836 Holt Road\, Bowmanville\, Ontario\, L1C 3K7\, Canada
ORGANIZER;CN="K9 Central":MAILTO:info@k9central.ca
END:VEVENT
BEGIN:VEVENT
DTSTART;TZID=America/Toronto:20240909T110000
DTEND;TZID=America/Toronto:20240909T120000
DTSTAMP:20260425T105712
CREATED:20240809T173213Z
LAST-MODIFIED:20240809T173213Z
UID:10002369-1725879600-1725883200@k9central.ca
SUMMARY:KC9 Pool In Use
DESCRIPTION:
URL:https://k9central.ca/event/kc9-pool-in-use/2024-09-09/
LOCATION:Dog Pool\, 2836 Holt Road\, Bowmanville\, Ontario\, L1C 3K7\, Canada
ORGANIZER;CN="K9 Central":MAILTO:info@k9central.ca
END:VEVENT
BEGIN:VEVENT
DTSTART;TZID=America/Toronto:20240906T110000
DTEND;TZID=America/Toronto:20240906T120000
DTSTAMP:20260425T105712
CREATED:20240809T173213Z
LAST-MODIFIED:20240809T173213Z
UID:10002368-1725620400-1725624000@k9central.ca
SUMMARY:KC9 Pool In Use
DESCRIPTION:
URL:https://k9central.ca/event/kc9-pool-in-use/2024-09-06/
LOCATION:Dog Pool\, 2836 Holt Road\, Bowmanville\, Ontario\, L1C 3K7\, Canada
ORGANIZER;CN="K9 Central":MAILTO:info@k9central.ca
END:VEVENT
BEGIN:VEVENT
DTSTART;TZID=America/Toronto:20240905T110000
DTEND;TZID=America/Toronto:20240905T120000
DTSTAMP:20260425T105712
CREATED:20240809T173213Z
LAST-MODIFIED:20240809T173213Z
UID:10002367-1725534000-1725537600@k9central.ca
SUMMARY:KC9 Pool In Use
DESCRIPTION:
URL:https://k9central.ca/event/kc9-pool-in-use/2024-09-05/
LOCATION:Dog Pool\, 2836 Holt Road\, Bowmanville\, Ontario\, L1C 3K7\, Canada
ORGANIZER;CN="K9 Central":MAILTO:info@k9central.ca
END:VEVENT
BEGIN:VEVENT
DTSTART;TZID=America/Toronto:20240904T110000
DTEND;TZID=America/Toronto:20240904T120000
DTSTAMP:20260425T105712
CREATED:20240809T173213Z
LAST-MODIFIED:20240809T173213Z
UID:10002366-1725447600-1725451200@k9central.ca
SUMMARY:KC9 Pool In Use
DESCRIPTION:
URL:https://k9central.ca/event/kc9-pool-in-use/2024-09-04/
LOCATION:Dog Pool\, 2836 Holt Road\, Bowmanville\, Ontario\, L1C 3K7\, Canada
ORGANIZER;CN="K9 Central":MAILTO:info@k9central.ca
END:VEVENT
BEGIN:VEVENT
DTSTART;TZID=America/Toronto:20240903T110000
DTEND;TZID=America/Toronto:20240903T120000
DTSTAMP:20260425T105712
CREATED:20240809T173213Z
LAST-MODIFIED:20240809T173213Z
UID:10002365-1725361200-1725364800@k9central.ca
SUMMARY:KC9 Pool In Use
DESCRIPTION:
URL:https://k9central.ca/event/kc9-pool-in-use/2024-09-03/
LOCATION:Dog Pool\, 2836 Holt Road\, Bowmanville\, Ontario\, L1C 3K7\, Canada
ORGANIZER;CN="K9 Central":MAILTO:info@k9central.ca
END:VEVENT
BEGIN:VEVENT
DTSTART;TZID=America/Toronto:20240902T170000
DTEND;TZID=America/Toronto:20240902T210000
DTSTAMP:20260425T105712
CREATED:20240809T173533Z
LAST-MODIFIED:20240809T173533Z
UID:10003918-1725296400-1725310800@k9central.ca
SUMMARY:Pool in use - classes
DESCRIPTION:
URL:https://k9central.ca/event/pool-in-use-classes/2024-09-02/
LOCATION:Dog Pool\, 2836 Holt Road\, Bowmanville\, Ontario\, L1C 3K7\, Canada
ORGANIZER;CN="K9 Central":MAILTO:info@k9central.ca
END:VEVENT
BEGIN:VEVENT
DTSTART;TZID=America/Toronto:20240902T150000
DTEND;TZID=America/Toronto:20240902T153000
DTSTAMP:20260425T105712
CREATED:20240809T173440Z
LAST-MODIFIED:20240809T173440Z
UID:10003657-1725289200-1725291000@k9central.ca
SUMMARY:Jordan
DESCRIPTION:
URL:https://k9central.ca/event/jordan/2024-09-02/
LOCATION:Dog Pool\, 2836 Holt Road\, Bowmanville\, Ontario\, L1C 3K7\, Canada
ORGANIZER;CN="K9 Central":MAILTO:info@k9central.ca
END:VEVENT
BEGIN:VEVENT
DTSTART;TZID=America/Toronto:20240902T110000
DTEND;TZID=America/Toronto:20240902T120000
DTSTAMP:20260425T105712
CREATED:20240809T173213Z
LAST-MODIFIED:20240809T173213Z
UID:10002364-1725274800-1725278400@k9central.ca
SUMMARY:KC9 Pool In Use
DESCRIPTION:
URL:https://k9central.ca/event/kc9-pool-in-use/2024-09-02/
LOCATION:Dog Pool\, 2836 Holt Road\, Bowmanville\, Ontario\, L1C 3K7\, Canada
ORGANIZER;CN="K9 Central":MAILTO:info@k9central.ca
END:VEVENT
BEGIN:VEVENT
DTSTART;TZID=America/Toronto:20240830T110000
DTEND;TZID=America/Toronto:20240830T120000
DTSTAMP:20260425T105712
CREATED:20240809T173213Z
LAST-MODIFIED:20240809T173213Z
UID:10002363-1725015600-1725019200@k9central.ca
SUMMARY:KC9 Pool In Use
DESCRIPTION:
URL:https://k9central.ca/event/kc9-pool-in-use/2024-08-30/
LOCATION:Dog Pool\, 2836 Holt Road\, Bowmanville\, Ontario\, L1C 3K7\, Canada
ORGANIZER;CN="K9 Central":MAILTO:info@k9central.ca
END:VEVENT
BEGIN:VEVENT
DTSTART;TZID=America/Toronto:20240829T110000
DTEND;TZID=America/Toronto:20240829T120000
DTSTAMP:20260425T105712
CREATED:20240809T173213Z
LAST-MODIFIED:20240809T173213Z
UID:10002362-1724929200-1724932800@k9central.ca
SUMMARY:KC9 Pool In Use
DESCRIPTION:
URL:https://k9central.ca/event/kc9-pool-in-use/2024-08-29/
LOCATION:Dog Pool\, 2836 Holt Road\, Bowmanville\, Ontario\, L1C 3K7\, Canada
ORGANIZER;CN="K9 Central":MAILTO:info@k9central.ca
END:VEVENT
BEGIN:VEVENT
DTSTART;TZID=America/Toronto:20240828T110000
DTEND;TZID=America/Toronto:20240828T120000
DTSTAMP:20260425T105712
CREATED:20240809T173213Z
LAST-MODIFIED:20240809T173213Z
UID:10002361-1724842800-1724846400@k9central.ca
SUMMARY:KC9 Pool In Use
DESCRIPTION:
URL:https://k9central.ca/event/kc9-pool-in-use/2024-08-28/
LOCATION:Dog Pool\, 2836 Holt Road\, Bowmanville\, Ontario\, L1C 3K7\, Canada
ORGANIZER;CN="K9 Central":MAILTO:info@k9central.ca
END:VEVENT
BEGIN:VEVENT
DTSTART;TZID=America/Toronto:20240827T110000
DTEND;TZID=America/Toronto:20240827T120000
DTSTAMP:20260425T105712
CREATED:20240809T173213Z
LAST-MODIFIED:20240809T173213Z
UID:10002360-1724756400-1724760000@k9central.ca
SUMMARY:KC9 Pool In Use
DESCRIPTION:
URL:https://k9central.ca/event/kc9-pool-in-use/2024-08-27/
LOCATION:Dog Pool\, 2836 Holt Road\, Bowmanville\, Ontario\, L1C 3K7\, Canada
ORGANIZER;CN="K9 Central":MAILTO:info@k9central.ca
END:VEVENT
BEGIN:VEVENT
DTSTART;TZID=America/Toronto:20240826T170000
DTEND;TZID=America/Toronto:20240826T210000
DTSTAMP:20260425T105712
CREATED:20240809T173533Z
LAST-MODIFIED:20240809T173533Z
UID:10003917-1724691600-1724706000@k9central.ca
SUMMARY:Pool in use - classes
DESCRIPTION:
URL:https://k9central.ca/event/pool-in-use-classes/2024-08-26/
LOCATION:Dog Pool\, 2836 Holt Road\, Bowmanville\, Ontario\, L1C 3K7\, Canada
ORGANIZER;CN="K9 Central":MAILTO:info@k9central.ca
END:VEVENT
BEGIN:VEVENT
DTSTART;TZID=America/Toronto:20240826T150000
DTEND;TZID=America/Toronto:20240826T153000
DTSTAMP:20260425T105712
CREATED:20240809T173440Z
LAST-MODIFIED:20240809T173440Z
UID:10003656-1724684400-1724686200@k9central.ca
SUMMARY:Jordan
DESCRIPTION:
URL:https://k9central.ca/event/jordan/2024-08-26/
LOCATION:Dog Pool\, 2836 Holt Road\, Bowmanville\, Ontario\, L1C 3K7\, Canada
ORGANIZER;CN="K9 Central":MAILTO:info@k9central.ca
END:VEVENT
BEGIN:VEVENT
DTSTART;TZID=America/Toronto:20240826T110000
DTEND;TZID=America/Toronto:20240826T120000
DTSTAMP:20260425T105712
CREATED:20240809T173213Z
LAST-MODIFIED:20240809T173213Z
UID:10002359-1724670000-1724673600@k9central.ca
SUMMARY:KC9 Pool In Use
DESCRIPTION:
URL:https://k9central.ca/event/kc9-pool-in-use/2024-08-26/
LOCATION:Dog Pool\, 2836 Holt Road\, Bowmanville\, Ontario\, L1C 3K7\, Canada
ORGANIZER;CN="K9 Central":MAILTO:info@k9central.ca
END:VEVENT
BEGIN:VEVENT
DTSTART;TZID=America/Toronto:20240823T110000
DTEND;TZID=America/Toronto:20240823T120000
DTSTAMP:20260425T105712
CREATED:20240809T173213Z
LAST-MODIFIED:20240809T173213Z
UID:10002358-1724410800-1724414400@k9central.ca
SUMMARY:KC9 Pool In Use
DESCRIPTION:
URL:https://k9central.ca/event/kc9-pool-in-use/2024-08-23/
LOCATION:Dog Pool\, 2836 Holt Road\, Bowmanville\, Ontario\, L1C 3K7\, Canada
ORGANIZER;CN="K9 Central":MAILTO:info@k9central.ca
END:VEVENT
BEGIN:VEVENT
DTSTART;TZID=America/Toronto:20240822T110000
DTEND;TZID=America/Toronto:20240822T120000
DTSTAMP:20260425T105712
CREATED:20240809T173213Z
LAST-MODIFIED:20240809T173213Z
UID:10002357-1724324400-1724328000@k9central.ca
SUMMARY:KC9 Pool In Use
DESCRIPTION:
URL:https://k9central.ca/event/kc9-pool-in-use/2024-08-22/
LOCATION:Dog Pool\, 2836 Holt Road\, Bowmanville\, Ontario\, L1C 3K7\, Canada
ORGANIZER;CN="K9 Central":MAILTO:info@k9central.ca
END:VEVENT
BEGIN:VEVENT
DTSTART;TZID=America/Toronto:20240821T110000
DTEND;TZID=America/Toronto:20240821T120000
DTSTAMP:20260425T105712
CREATED:20240809T173213Z
LAST-MODIFIED:20240809T173213Z
UID:10002356-1724238000-1724241600@k9central.ca
SUMMARY:KC9 Pool In Use
DESCRIPTION:
URL:https://k9central.ca/event/kc9-pool-in-use/2024-08-21/
LOCATION:Dog Pool\, 2836 Holt Road\, Bowmanville\, Ontario\, L1C 3K7\, Canada
ORGANIZER;CN="K9 Central":MAILTO:info@k9central.ca
END:VEVENT
BEGIN:VEVENT
DTSTART;TZID=America/Toronto:20240820T110000
DTEND;TZID=America/Toronto:20240820T120000
DTSTAMP:20260425T105712
CREATED:20240809T173213Z
LAST-MODIFIED:20240809T173213Z
UID:10002355-1724151600-1724155200@k9central.ca
SUMMARY:KC9 Pool In Use
DESCRIPTION:
URL:https://k9central.ca/event/kc9-pool-in-use/2024-08-20/
LOCATION:Dog Pool\, 2836 Holt Road\, Bowmanville\, Ontario\, L1C 3K7\, Canada
ORGANIZER;CN="K9 Central":MAILTO:info@k9central.ca
END:VEVENT
END:VCALENDAR