BEGIN:VCALENDAR
VERSION:2.0
PRODID:-//K9 Central - ECPv6.15.20//NONSGML v1.0//EN
CALSCALE:GREGORIAN
METHOD:PUBLISH
X-WR-CALNAME:K9 Central
X-ORIGINAL-URL:https://k9central.ca
X-WR-CALDESC:Events for K9 Central
REFRESH-INTERVAL;VALUE=DURATION:PT1H
X-Robots-Tag:noindex
X-PUBLISHED-TTL:PT1H
BEGIN:VTIMEZONE
TZID:America/Toronto
BEGIN:DAYLIGHT
TZOFFSETFROM:-0500
TZOFFSETTO:-0400
TZNAME:EDT
DTSTART:20230312T070000
END:DAYLIGHT
BEGIN:STANDARD
TZOFFSETFROM:-0400
TZOFFSETTO:-0500
TZNAME:EST
DTSTART:20231105T060000
END:STANDARD
BEGIN:DAYLIGHT
TZOFFSETFROM:-0500
TZOFFSETTO:-0400
TZNAME:EDT
DTSTART:20240310T070000
END:DAYLIGHT
BEGIN:STANDARD
TZOFFSETFROM:-0400
TZOFFSETTO:-0500
TZNAME:EST
DTSTART:20241103T060000
END:STANDARD
BEGIN:DAYLIGHT
TZOFFSETFROM:-0500
TZOFFSETTO:-0400
TZNAME:EDT
DTSTART:20250309T070000
END:DAYLIGHT
BEGIN:STANDARD
TZOFFSETFROM:-0400
TZOFFSETTO:-0500
TZNAME:EST
DTSTART:20251102T060000
END:STANDARD
BEGIN:DAYLIGHT
TZOFFSETFROM:-0500
TZOFFSETTO:-0400
TZNAME:EDT
DTSTART:20260308T070000
END:DAYLIGHT
BEGIN:STANDARD
TZOFFSETFROM:-0400
TZOFFSETTO:-0500
TZNAME:EST
DTSTART:20261101T060000
END:STANDARD
END:VTIMEZONE
BEGIN:VEVENT
DTSTART;TZID=America/Toronto:20250505T150000
DTEND;TZID=America/Toronto:20250505T153000
DTSTAMP:20260422T073207
CREATED:20240809T173440Z
LAST-MODIFIED:20240809T173440Z
UID:10003692-1746457200-1746459000@k9central.ca
SUMMARY:Jordan
DESCRIPTION:
URL:https://k9central.ca/event/jordan/2025-05-05/
LOCATION:Dog Pool\, 2836 Holt Road\, Bowmanville\, Ontario\, L1C 3K7\, Canada
ORGANIZER;CN="K9 Central":MAILTO:info@k9central.ca
END:VEVENT
BEGIN:VEVENT
DTSTART;TZID=America/Toronto:20250428T150000
DTEND;TZID=America/Toronto:20250428T153000
DTSTAMP:20260422T073207
CREATED:20240809T173440Z
LAST-MODIFIED:20240809T173440Z
UID:10003691-1745852400-1745854200@k9central.ca
SUMMARY:Jordan
DESCRIPTION:
URL:https://k9central.ca/event/jordan/2025-04-28/
LOCATION:Dog Pool\, 2836 Holt Road\, Bowmanville\, Ontario\, L1C 3K7\, Canada
ORGANIZER;CN="K9 Central":MAILTO:info@k9central.ca
END:VEVENT
BEGIN:VEVENT
DTSTART;TZID=America/Toronto:20250421T150000
DTEND;TZID=America/Toronto:20250421T153000
DTSTAMP:20260422T073207
CREATED:20240809T173440Z
LAST-MODIFIED:20240809T173440Z
UID:10003690-1745247600-1745249400@k9central.ca
SUMMARY:Jordan
DESCRIPTION:
URL:https://k9central.ca/event/jordan/2025-04-21/
LOCATION:Dog Pool\, 2836 Holt Road\, Bowmanville\, Ontario\, L1C 3K7\, Canada
ORGANIZER;CN="K9 Central":MAILTO:info@k9central.ca
END:VEVENT
BEGIN:VEVENT
DTSTART;TZID=America/Toronto:20250414T150000
DTEND;TZID=America/Toronto:20250414T153000
DTSTAMP:20260422T073207
CREATED:20240809T173440Z
LAST-MODIFIED:20240809T173440Z
UID:10003689-1744642800-1744644600@k9central.ca
SUMMARY:Jordan
DESCRIPTION:
URL:https://k9central.ca/event/jordan/2025-04-14/
LOCATION:Dog Pool\, 2836 Holt Road\, Bowmanville\, Ontario\, L1C 3K7\, Canada
ORGANIZER;CN="K9 Central":MAILTO:info@k9central.ca
END:VEVENT
BEGIN:VEVENT
DTSTART;TZID=America/Toronto:20250407T150000
DTEND;TZID=America/Toronto:20250407T153000
DTSTAMP:20260422T073207
CREATED:20240809T173440Z
LAST-MODIFIED:20240809T173440Z
UID:10003688-1744038000-1744039800@k9central.ca
SUMMARY:Jordan
DESCRIPTION:
URL:https://k9central.ca/event/jordan/2025-04-07/
LOCATION:Dog Pool\, 2836 Holt Road\, Bowmanville\, Ontario\, L1C 3K7\, Canada
ORGANIZER;CN="K9 Central":MAILTO:info@k9central.ca
END:VEVENT
BEGIN:VEVENT
DTSTART;TZID=America/Toronto:20250331T150000
DTEND;TZID=America/Toronto:20250331T153000
DTSTAMP:20260422T073207
CREATED:20240809T173440Z
LAST-MODIFIED:20240809T173440Z
UID:10003687-1743433200-1743435000@k9central.ca
SUMMARY:Jordan
DESCRIPTION:
URL:https://k9central.ca/event/jordan/2025-03-31/
LOCATION:Dog Pool\, 2836 Holt Road\, Bowmanville\, Ontario\, L1C 3K7\, Canada
ORGANIZER;CN="K9 Central":MAILTO:info@k9central.ca
END:VEVENT
BEGIN:VEVENT
DTSTART;TZID=America/Toronto:20250324T150000
DTEND;TZID=America/Toronto:20250324T153000
DTSTAMP:20260422T073207
CREATED:20240809T173440Z
LAST-MODIFIED:20240809T173440Z
UID:10003686-1742828400-1742830200@k9central.ca
SUMMARY:Jordan
DESCRIPTION:
URL:https://k9central.ca/event/jordan/2025-03-24/
LOCATION:Dog Pool\, 2836 Holt Road\, Bowmanville\, Ontario\, L1C 3K7\, Canada
ORGANIZER;CN="K9 Central":MAILTO:info@k9central.ca
END:VEVENT
BEGIN:VEVENT
DTSTART;TZID=America/Toronto:20250317T150000
DTEND;TZID=America/Toronto:20250317T153000
DTSTAMP:20260422T073207
CREATED:20240809T173440Z
LAST-MODIFIED:20240809T173440Z
UID:10003685-1742223600-1742225400@k9central.ca
SUMMARY:Jordan
DESCRIPTION:
URL:https://k9central.ca/event/jordan/2025-03-17/
LOCATION:Dog Pool\, 2836 Holt Road\, Bowmanville\, Ontario\, L1C 3K7\, Canada
ORGANIZER;CN="K9 Central":MAILTO:info@k9central.ca
END:VEVENT
BEGIN:VEVENT
DTSTART;TZID=America/Toronto:20250310T150000
DTEND;TZID=America/Toronto:20250310T153000
DTSTAMP:20260422T073207
CREATED:20240809T173440Z
LAST-MODIFIED:20240809T173440Z
UID:10003684-1741618800-1741620600@k9central.ca
SUMMARY:Jordan
DESCRIPTION:
URL:https://k9central.ca/event/jordan/2025-03-10/
LOCATION:Dog Pool\, 2836 Holt Road\, Bowmanville\, Ontario\, L1C 3K7\, Canada
ORGANIZER;CN="K9 Central":MAILTO:info@k9central.ca
END:VEVENT
BEGIN:VEVENT
DTSTART;TZID=America/Toronto:20250303T150000
DTEND;TZID=America/Toronto:20250303T153000
DTSTAMP:20260422T073207
CREATED:20240809T173440Z
LAST-MODIFIED:20240809T173440Z
UID:10003683-1741014000-1741015800@k9central.ca
SUMMARY:Jordan
DESCRIPTION:
URL:https://k9central.ca/event/jordan/2025-03-03/
LOCATION:Dog Pool\, 2836 Holt Road\, Bowmanville\, Ontario\, L1C 3K7\, Canada
ORGANIZER;CN="K9 Central":MAILTO:info@k9central.ca
END:VEVENT
BEGIN:VEVENT
DTSTART;TZID=America/Toronto:20250224T150000
DTEND;TZID=America/Toronto:20250224T153000
DTSTAMP:20260422T073207
CREATED:20240809T173440Z
LAST-MODIFIED:20240809T173440Z
UID:10003682-1740409200-1740411000@k9central.ca
SUMMARY:Jordan
DESCRIPTION:
URL:https://k9central.ca/event/jordan/2025-02-24/
LOCATION:Dog Pool\, 2836 Holt Road\, Bowmanville\, Ontario\, L1C 3K7\, Canada
ORGANIZER;CN="K9 Central":MAILTO:info@k9central.ca
END:VEVENT
BEGIN:VEVENT
DTSTART;TZID=America/Toronto:20250217T150000
DTEND;TZID=America/Toronto:20250217T153000
DTSTAMP:20260422T073207
CREATED:20240809T173440Z
LAST-MODIFIED:20240809T173440Z
UID:10003681-1739804400-1739806200@k9central.ca
SUMMARY:Jordan
DESCRIPTION:
URL:https://k9central.ca/event/jordan/2025-02-17/
LOCATION:Dog Pool\, 2836 Holt Road\, Bowmanville\, Ontario\, L1C 3K7\, Canada
ORGANIZER;CN="K9 Central":MAILTO:info@k9central.ca
END:VEVENT
BEGIN:VEVENT
DTSTART;TZID=America/Toronto:20250210T150000
DTEND;TZID=America/Toronto:20250210T153000
DTSTAMP:20260422T073207
CREATED:20240809T173440Z
LAST-MODIFIED:20240809T173440Z
UID:10003680-1739199600-1739201400@k9central.ca
SUMMARY:Jordan
DESCRIPTION:
URL:https://k9central.ca/event/jordan/2025-02-10/
LOCATION:Dog Pool\, 2836 Holt Road\, Bowmanville\, Ontario\, L1C 3K7\, Canada
ORGANIZER;CN="K9 Central":MAILTO:info@k9central.ca
END:VEVENT
BEGIN:VEVENT
DTSTART;TZID=America/Toronto:20250203T150000
DTEND;TZID=America/Toronto:20250203T153000
DTSTAMP:20260422T073207
CREATED:20240809T173440Z
LAST-MODIFIED:20240809T173440Z
UID:10003679-1738594800-1738596600@k9central.ca
SUMMARY:Jordan
DESCRIPTION:
URL:https://k9central.ca/event/jordan/2025-02-03/
LOCATION:Dog Pool\, 2836 Holt Road\, Bowmanville\, Ontario\, L1C 3K7\, Canada
ORGANIZER;CN="K9 Central":MAILTO:info@k9central.ca
END:VEVENT
BEGIN:VEVENT
DTSTART;TZID=America/Toronto:20250127T150000
DTEND;TZID=America/Toronto:20250127T153000
DTSTAMP:20260422T073207
CREATED:20240809T173440Z
LAST-MODIFIED:20240809T173440Z
UID:10003678-1737990000-1737991800@k9central.ca
SUMMARY:Jordan
DESCRIPTION:
URL:https://k9central.ca/event/jordan/2025-01-27/
LOCATION:Dog Pool\, 2836 Holt Road\, Bowmanville\, Ontario\, L1C 3K7\, Canada
ORGANIZER;CN="K9 Central":MAILTO:info@k9central.ca
END:VEVENT
BEGIN:VEVENT
DTSTART;TZID=America/Toronto:20250120T150000
DTEND;TZID=America/Toronto:20250120T153000
DTSTAMP:20260422T073207
CREATED:20240809T173440Z
LAST-MODIFIED:20240809T173440Z
UID:10003677-1737385200-1737387000@k9central.ca
SUMMARY:Jordan
DESCRIPTION:
URL:https://k9central.ca/event/jordan/2025-01-20/
LOCATION:Dog Pool\, 2836 Holt Road\, Bowmanville\, Ontario\, L1C 3K7\, Canada
ORGANIZER;CN="K9 Central":MAILTO:info@k9central.ca
END:VEVENT
BEGIN:VEVENT
DTSTART;TZID=America/Toronto:20250113T150000
DTEND;TZID=America/Toronto:20250113T153000
DTSTAMP:20260422T073207
CREATED:20240809T173440Z
LAST-MODIFIED:20240809T173440Z
UID:10003676-1736780400-1736782200@k9central.ca
SUMMARY:Jordan
DESCRIPTION:
URL:https://k9central.ca/event/jordan/2025-01-13/
LOCATION:Dog Pool\, 2836 Holt Road\, Bowmanville\, Ontario\, L1C 3K7\, Canada
ORGANIZER;CN="K9 Central":MAILTO:info@k9central.ca
END:VEVENT
BEGIN:VEVENT
DTSTART;TZID=America/Toronto:20250106T150000
DTEND;TZID=America/Toronto:20250106T153000
DTSTAMP:20260422T073207
CREATED:20240809T173440Z
LAST-MODIFIED:20240809T173440Z
UID:10003675-1736175600-1736177400@k9central.ca
SUMMARY:Jordan
DESCRIPTION:
URL:https://k9central.ca/event/jordan/2025-01-06/
LOCATION:Dog Pool\, 2836 Holt Road\, Bowmanville\, Ontario\, L1C 3K7\, Canada
ORGANIZER;CN="K9 Central":MAILTO:info@k9central.ca
END:VEVENT
BEGIN:VEVENT
DTSTART;TZID=America/Toronto:20250101T110000
DTEND;TZID=America/Toronto:20250101T120000
DTSTAMP:20260422T073207
CREATED:20250114T184516Z
LAST-MODIFIED:20250114T184554Z
UID:10002451-1735729200-1735732800@k9central.ca
SUMMARY:KC9 Pool In Use
DESCRIPTION:
URL:https://k9central.ca/event/kc9-pool-in-use-2/
LOCATION:Dog Pool\, 2836 Holt Road\, Bowmanville\, Ontario\, L1C 3K7\, Canada
ORGANIZER;CN="K9 Central":MAILTO:info@k9central.ca
END:VEVENT
BEGIN:VEVENT
DTSTART;TZID=America/Toronto:20241230T150000
DTEND;TZID=America/Toronto:20241230T153000
DTSTAMP:20260422T073207
CREATED:20240809T173440Z
LAST-MODIFIED:20240809T173440Z
UID:10003674-1735570800-1735572600@k9central.ca
SUMMARY:Jordan
DESCRIPTION:
URL:https://k9central.ca/event/jordan/2024-12-30/
LOCATION:Dog Pool\, 2836 Holt Road\, Bowmanville\, Ontario\, L1C 3K7\, Canada
ORGANIZER;CN="K9 Central":MAILTO:info@k9central.ca
END:VEVENT
BEGIN:VEVENT
DTSTART;TZID=America/Toronto:20241227T110000
DTEND;TZID=America/Toronto:20241227T120000
DTSTAMP:20260422T073207
CREATED:20240809T173213Z
LAST-MODIFIED:20240809T173213Z
UID:10002448-1735297200-1735300800@k9central.ca
SUMMARY:KC9 Pool In Use
DESCRIPTION:
URL:https://k9central.ca/event/kc9-pool-in-use/2024-12-27/
LOCATION:Dog Pool\, 2836 Holt Road\, Bowmanville\, Ontario\, L1C 3K7\, Canada
ORGANIZER;CN="K9 Central":MAILTO:info@k9central.ca
END:VEVENT
BEGIN:VEVENT
DTSTART;TZID=America/Toronto:20241226T110000
DTEND;TZID=America/Toronto:20241226T120000
DTSTAMP:20260422T073207
CREATED:20240809T173213Z
LAST-MODIFIED:20240809T173213Z
UID:10002447-1735210800-1735214400@k9central.ca
SUMMARY:KC9 Pool In Use
DESCRIPTION:
URL:https://k9central.ca/event/kc9-pool-in-use/2024-12-26/
LOCATION:Dog Pool\, 2836 Holt Road\, Bowmanville\, Ontario\, L1C 3K7\, Canada
ORGANIZER;CN="K9 Central":MAILTO:info@k9central.ca
END:VEVENT
BEGIN:VEVENT
DTSTART;TZID=America/Toronto:20241225T110000
DTEND;TZID=America/Toronto:20241225T120000
DTSTAMP:20260422T073207
CREATED:20240809T173213Z
LAST-MODIFIED:20240809T173213Z
UID:10002446-1735124400-1735128000@k9central.ca
SUMMARY:KC9 Pool In Use
DESCRIPTION:
URL:https://k9central.ca/event/kc9-pool-in-use/2024-12-25/
LOCATION:Dog Pool\, 2836 Holt Road\, Bowmanville\, Ontario\, L1C 3K7\, Canada
ORGANIZER;CN="K9 Central":MAILTO:info@k9central.ca
END:VEVENT
BEGIN:VEVENT
DTSTART;TZID=America/Toronto:20241224T110000
DTEND;TZID=America/Toronto:20241224T120000
DTSTAMP:20260422T073207
CREATED:20240809T173213Z
LAST-MODIFIED:20240809T173213Z
UID:10002445-1735038000-1735041600@k9central.ca
SUMMARY:KC9 Pool In Use
DESCRIPTION:
URL:https://k9central.ca/event/kc9-pool-in-use/2024-12-24/
LOCATION:Dog Pool\, 2836 Holt Road\, Bowmanville\, Ontario\, L1C 3K7\, Canada
ORGANIZER;CN="K9 Central":MAILTO:info@k9central.ca
END:VEVENT
BEGIN:VEVENT
DTSTART;TZID=America/Toronto:20241223T170000
DTEND;TZID=America/Toronto:20241223T210000
DTSTAMP:20260422T073207
CREATED:20240809T173533Z
LAST-MODIFIED:20240809T173533Z
UID:10003934-1734973200-1734987600@k9central.ca
SUMMARY:Pool in use - classes
DESCRIPTION:
URL:https://k9central.ca/event/pool-in-use-classes/2024-12-23/
LOCATION:Dog Pool\, 2836 Holt Road\, Bowmanville\, Ontario\, L1C 3K7\, Canada
ORGANIZER;CN="K9 Central":MAILTO:info@k9central.ca
END:VEVENT
BEGIN:VEVENT
DTSTART;TZID=America/Toronto:20241223T150000
DTEND;TZID=America/Toronto:20241223T153000
DTSTAMP:20260422T073207
CREATED:20240809T173440Z
LAST-MODIFIED:20240809T173440Z
UID:10003673-1734966000-1734967800@k9central.ca
SUMMARY:Jordan
DESCRIPTION:
URL:https://k9central.ca/event/jordan/2024-12-23/
LOCATION:Dog Pool\, 2836 Holt Road\, Bowmanville\, Ontario\, L1C 3K7\, Canada
ORGANIZER;CN="K9 Central":MAILTO:info@k9central.ca
END:VEVENT
BEGIN:VEVENT
DTSTART;TZID=America/Toronto:20241223T110000
DTEND;TZID=America/Toronto:20241223T120000
DTSTAMP:20260422T073207
CREATED:20240809T173213Z
LAST-MODIFIED:20240809T173213Z
UID:10002444-1734951600-1734955200@k9central.ca
SUMMARY:KC9 Pool In Use
DESCRIPTION:
URL:https://k9central.ca/event/kc9-pool-in-use/2024-12-23/
LOCATION:Dog Pool\, 2836 Holt Road\, Bowmanville\, Ontario\, L1C 3K7\, Canada
ORGANIZER;CN="K9 Central":MAILTO:info@k9central.ca
END:VEVENT
BEGIN:VEVENT
DTSTART;TZID=America/Toronto:20241220T110000
DTEND;TZID=America/Toronto:20241220T120000
DTSTAMP:20260422T073207
CREATED:20240809T173213Z
LAST-MODIFIED:20240809T173213Z
UID:10002443-1734692400-1734696000@k9central.ca
SUMMARY:KC9 Pool In Use
DESCRIPTION:
URL:https://k9central.ca/event/kc9-pool-in-use/2024-12-20/
LOCATION:Dog Pool\, 2836 Holt Road\, Bowmanville\, Ontario\, L1C 3K7\, Canada
ORGANIZER;CN="K9 Central":MAILTO:info@k9central.ca
END:VEVENT
BEGIN:VEVENT
DTSTART;TZID=America/Toronto:20241219T110000
DTEND;TZID=America/Toronto:20241219T120000
DTSTAMP:20260422T073207
CREATED:20240809T173213Z
LAST-MODIFIED:20240809T173213Z
UID:10002442-1734606000-1734609600@k9central.ca
SUMMARY:KC9 Pool In Use
DESCRIPTION:
URL:https://k9central.ca/event/kc9-pool-in-use/2024-12-19/
LOCATION:Dog Pool\, 2836 Holt Road\, Bowmanville\, Ontario\, L1C 3K7\, Canada
ORGANIZER;CN="K9 Central":MAILTO:info@k9central.ca
END:VEVENT
BEGIN:VEVENT
DTSTART;TZID=America/Toronto:20241218T110000
DTEND;TZID=America/Toronto:20241218T120000
DTSTAMP:20260422T073207
CREATED:20240809T173213Z
LAST-MODIFIED:20240809T173213Z
UID:10002441-1734519600-1734523200@k9central.ca
SUMMARY:KC9 Pool In Use
DESCRIPTION:
URL:https://k9central.ca/event/kc9-pool-in-use/2024-12-18/
LOCATION:Dog Pool\, 2836 Holt Road\, Bowmanville\, Ontario\, L1C 3K7\, Canada
ORGANIZER;CN="K9 Central":MAILTO:info@k9central.ca
END:VEVENT
END:VCALENDAR