BEGIN:VCALENDAR
VERSION:2.0
PRODID:-//K9 Central - ECPv6.15.20//NONSGML v1.0//EN
CALSCALE:GREGORIAN
METHOD:PUBLISH
X-WR-CALNAME:K9 Central
X-ORIGINAL-URL:https://k9central.ca
X-WR-CALDESC:Events for K9 Central
REFRESH-INTERVAL;VALUE=DURATION:PT1H
X-Robots-Tag:noindex
X-PUBLISHED-TTL:PT1H
BEGIN:VTIMEZONE
TZID:America/Toronto
BEGIN:DAYLIGHT
TZOFFSETFROM:-0500
TZOFFSETTO:-0400
TZNAME:EDT
DTSTART:20250309T070000
END:DAYLIGHT
BEGIN:STANDARD
TZOFFSETFROM:-0400
TZOFFSETTO:-0500
TZNAME:EST
DTSTART:20251102T060000
END:STANDARD
BEGIN:DAYLIGHT
TZOFFSETFROM:-0500
TZOFFSETTO:-0400
TZNAME:EDT
DTSTART:20260308T070000
END:DAYLIGHT
BEGIN:STANDARD
TZOFFSETFROM:-0400
TZOFFSETTO:-0500
TZNAME:EST
DTSTART:20261101T060000
END:STANDARD
BEGIN:DAYLIGHT
TZOFFSETFROM:-0500
TZOFFSETTO:-0400
TZNAME:EDT
DTSTART:20270314T070000
END:DAYLIGHT
BEGIN:STANDARD
TZOFFSETFROM:-0400
TZOFFSETTO:-0500
TZNAME:EST
DTSTART:20271107T060000
END:STANDARD
BEGIN:DAYLIGHT
TZOFFSETFROM:-0500
TZOFFSETTO:-0400
TZNAME:EDT
DTSTART:20280312T070000
END:DAYLIGHT
BEGIN:STANDARD
TZOFFSETFROM:-0400
TZOFFSETTO:-0500
TZNAME:EST
DTSTART:20281105T060000
END:STANDARD
END:VTIMEZONE
BEGIN:VEVENT
DTSTART;TZID=America/Toronto:20261126T170000
DTEND;TZID=America/Toronto:20261126T210000
DTSTAMP:20260419T211843
CREATED:20251104T005040Z
LAST-MODIFIED:20251104T005205Z
UID:10005278-1795712400-1795726800@k9central.ca
SUMMARY:Hall not available - Classes
DESCRIPTION:
URL:https://k9central.ca/event/classes/2026-11-26/
LOCATION:Indoor Hall\, 2836 Holt Road\, Bowmanville\, Ontario\, L1C 3K7\, Canada
CATEGORIES:Hall
ORGANIZER;CN="K9 Central":MAILTO:info@k9central.ca
END:VEVENT
BEGIN:VEVENT
DTSTART;TZID=America/Toronto:20261127T173000
DTEND;TZID=America/Toronto:20261127T203000
DTSTAMP:20260419T211843
CREATED:20251017T161755Z
LAST-MODIFIED:20251017T161755Z
UID:10005193-1795800600-1795811400@k9central.ca
SUMMARY:Hall Booked
DESCRIPTION:
URL:https://k9central.ca/event/hall-booked/2026-11-27/
LOCATION:Indoor Hall\, 2836 Holt Road\, Bowmanville\, Ontario\, L1C 3K7\, Canada
CATEGORIES:Hall
ORGANIZER;CN="K9 Central":MAILTO:info@k9central.ca
END:VEVENT
BEGIN:VEVENT
DTSTART;TZID=America/Toronto:20261130T140000
DTEND;TZID=America/Toronto:20261130T170000
DTSTAMP:20260419T211843
CREATED:20260119T203632Z
LAST-MODIFIED:20260119T203632Z
UID:10006364-1796047200-1796058000@k9central.ca
SUMMARY:Hall in use - cleaning
DESCRIPTION:
URL:https://k9central.ca/event/hall-in-use-cleaning/2026-11-30/
LOCATION:Indoor Hall\, 2836 Holt Road\, Bowmanville\, Ontario\, L1C 3K7\, Canada
CATEGORIES:Hall
ORGANIZER;CN="K9 Central":MAILTO:info@k9central.ca
END:VEVENT
BEGIN:VEVENT
DTSTART;TZID=America/Toronto:20261130T170000
DTEND;TZID=America/Toronto:20261130T210000
DTSTAMP:20260419T211843
CREATED:20251104T005346Z
LAST-MODIFIED:20251104T005346Z
UID:10005539-1796058000-1796072400@k9central.ca
SUMMARY:Hall not available - Classes
DESCRIPTION:
URL:https://k9central.ca/event/hall-not-available-classes/2026-11-30/
LOCATION:Indoor Hall\, 2836 Holt Road\, Bowmanville\, Ontario\, L1C 3K7\, Canada
CATEGORIES:Hall
ORGANIZER;CN="K9 Central":MAILTO:info@k9central.ca
END:VEVENT
BEGIN:VEVENT
DTSTART;TZID=America/Toronto:20261201T180000
DTEND;TZID=America/Toronto:20261201T210000
DTSTAMP:20260419T211843
CREATED:20260113T224845Z
LAST-MODIFIED:20260113T224845Z
UID:10005934-1796148000-1796158800@k9central.ca
SUMMARY:Flyball Practice
DESCRIPTION:
URL:https://k9central.ca/event/flyball-practice/2026-12-01/
LOCATION:Indoor Hall\, 2836 Holt Road\, Bowmanville\, Ontario\, L1C 3K7\, Canada
CATEGORIES:Hall
ORGANIZER;CN="K9 Central":MAILTO:info@k9central.ca
END:VEVENT
BEGIN:VEVENT
DTSTART;TZID=America/Toronto:20261203T140000
DTEND;TZID=America/Toronto:20261203T170000
DTSTAMP:20260419T211843
CREATED:20260119T203632Z
LAST-MODIFIED:20260119T203632Z
UID:10006365-1796306400-1796317200@k9central.ca
SUMMARY:Hall in use - cleaning
DESCRIPTION:
URL:https://k9central.ca/event/hall-in-use-cleaning/2026-12-03/
LOCATION:Indoor Hall\, 2836 Holt Road\, Bowmanville\, Ontario\, L1C 3K7\, Canada
CATEGORIES:Hall
ORGANIZER;CN="K9 Central":MAILTO:info@k9central.ca
END:VEVENT
BEGIN:VEVENT
DTSTART;TZID=America/Toronto:20261203T170000
DTEND;TZID=America/Toronto:20261203T210000
DTSTAMP:20260419T211843
CREATED:20251104T005040Z
LAST-MODIFIED:20251104T005205Z
UID:10005279-1796317200-1796331600@k9central.ca
SUMMARY:Hall not available - Classes
DESCRIPTION:
URL:https://k9central.ca/event/classes/2026-12-03/
LOCATION:Indoor Hall\, 2836 Holt Road\, Bowmanville\, Ontario\, L1C 3K7\, Canada
CATEGORIES:Hall
ORGANIZER;CN="K9 Central":MAILTO:info@k9central.ca
END:VEVENT
BEGIN:VEVENT
DTSTART;TZID=America/Toronto:20261204T173000
DTEND;TZID=America/Toronto:20261204T203000
DTSTAMP:20260419T211843
CREATED:20251017T161755Z
LAST-MODIFIED:20251017T161755Z
UID:10005194-1796405400-1796416200@k9central.ca
SUMMARY:Hall Booked
DESCRIPTION:
URL:https://k9central.ca/event/hall-booked/2026-12-04/
LOCATION:Indoor Hall\, 2836 Holt Road\, Bowmanville\, Ontario\, L1C 3K7\, Canada
CATEGORIES:Hall
ORGANIZER;CN="K9 Central":MAILTO:info@k9central.ca
END:VEVENT
BEGIN:VEVENT
DTSTART;TZID=America/Toronto:20261207T140000
DTEND;TZID=America/Toronto:20261207T170000
DTSTAMP:20260419T211843
CREATED:20260119T203632Z
LAST-MODIFIED:20260119T203632Z
UID:10006366-1796652000-1796662800@k9central.ca
SUMMARY:Hall in use - cleaning
DESCRIPTION:
URL:https://k9central.ca/event/hall-in-use-cleaning/2026-12-07/
LOCATION:Indoor Hall\, 2836 Holt Road\, Bowmanville\, Ontario\, L1C 3K7\, Canada
CATEGORIES:Hall
ORGANIZER;CN="K9 Central":MAILTO:info@k9central.ca
END:VEVENT
BEGIN:VEVENT
DTSTART;TZID=America/Toronto:20261207T170000
DTEND;TZID=America/Toronto:20261207T210000
DTSTAMP:20260419T211843
CREATED:20251104T005346Z
LAST-MODIFIED:20251104T005346Z
UID:10005540-1796662800-1796677200@k9central.ca
SUMMARY:Hall not available - Classes
DESCRIPTION:
URL:https://k9central.ca/event/hall-not-available-classes/2026-12-07/
LOCATION:Indoor Hall\, 2836 Holt Road\, Bowmanville\, Ontario\, L1C 3K7\, Canada
CATEGORIES:Hall
ORGANIZER;CN="K9 Central":MAILTO:info@k9central.ca
END:VEVENT
BEGIN:VEVENT
DTSTART;TZID=America/Toronto:20261208T180000
DTEND;TZID=America/Toronto:20261208T210000
DTSTAMP:20260419T211843
CREATED:20260113T224845Z
LAST-MODIFIED:20260113T224845Z
UID:10005935-1796752800-1796763600@k9central.ca
SUMMARY:Flyball Practice
DESCRIPTION:
URL:https://k9central.ca/event/flyball-practice/2026-12-08/
LOCATION:Indoor Hall\, 2836 Holt Road\, Bowmanville\, Ontario\, L1C 3K7\, Canada
CATEGORIES:Hall
ORGANIZER;CN="K9 Central":MAILTO:info@k9central.ca
END:VEVENT
BEGIN:VEVENT
DTSTART;TZID=America/Toronto:20261210T140000
DTEND;TZID=America/Toronto:20261210T170000
DTSTAMP:20260419T211843
CREATED:20260119T203632Z
LAST-MODIFIED:20260119T203632Z
UID:10006367-1796911200-1796922000@k9central.ca
SUMMARY:Hall in use - cleaning
DESCRIPTION:
URL:https://k9central.ca/event/hall-in-use-cleaning/2026-12-10/
LOCATION:Indoor Hall\, 2836 Holt Road\, Bowmanville\, Ontario\, L1C 3K7\, Canada
CATEGORIES:Hall
ORGANIZER;CN="K9 Central":MAILTO:info@k9central.ca
END:VEVENT
BEGIN:VEVENT
DTSTART;TZID=America/Toronto:20261210T170000
DTEND;TZID=America/Toronto:20261210T210000
DTSTAMP:20260419T211843
CREATED:20251104T005040Z
LAST-MODIFIED:20251104T005205Z
UID:10005280-1796922000-1796936400@k9central.ca
SUMMARY:Hall not available - Classes
DESCRIPTION:
URL:https://k9central.ca/event/classes/2026-12-10/
LOCATION:Indoor Hall\, 2836 Holt Road\, Bowmanville\, Ontario\, L1C 3K7\, Canada
CATEGORIES:Hall
ORGANIZER;CN="K9 Central":MAILTO:info@k9central.ca
END:VEVENT
BEGIN:VEVENT
DTSTART;TZID=America/Toronto:20261214T140000
DTEND;TZID=America/Toronto:20261214T170000
DTSTAMP:20260419T211843
CREATED:20260119T203632Z
LAST-MODIFIED:20260119T203632Z
UID:10006368-1797256800-1797267600@k9central.ca
SUMMARY:Hall in use - cleaning
DESCRIPTION:
URL:https://k9central.ca/event/hall-in-use-cleaning/2026-12-14/
LOCATION:Indoor Hall\, 2836 Holt Road\, Bowmanville\, Ontario\, L1C 3K7\, Canada
CATEGORIES:Hall
ORGANIZER;CN="K9 Central":MAILTO:info@k9central.ca
END:VEVENT
BEGIN:VEVENT
DTSTART;TZID=America/Toronto:20261214T170000
DTEND;TZID=America/Toronto:20261214T210000
DTSTAMP:20260419T211843
CREATED:20251104T005346Z
LAST-MODIFIED:20251104T005346Z
UID:10005541-1797267600-1797282000@k9central.ca
SUMMARY:Hall not available - Classes
DESCRIPTION:
URL:https://k9central.ca/event/hall-not-available-classes/2026-12-14/
LOCATION:Indoor Hall\, 2836 Holt Road\, Bowmanville\, Ontario\, L1C 3K7\, Canada
CATEGORIES:Hall
ORGANIZER;CN="K9 Central":MAILTO:info@k9central.ca
END:VEVENT
BEGIN:VEVENT
DTSTART;TZID=America/Toronto:20261215T180000
DTEND;TZID=America/Toronto:20261215T210000
DTSTAMP:20260419T211843
CREATED:20260113T224845Z
LAST-MODIFIED:20260113T224845Z
UID:10005936-1797357600-1797368400@k9central.ca
SUMMARY:Flyball Practice
DESCRIPTION:
URL:https://k9central.ca/event/flyball-practice/2026-12-15/
LOCATION:Indoor Hall\, 2836 Holt Road\, Bowmanville\, Ontario\, L1C 3K7\, Canada
CATEGORIES:Hall
ORGANIZER;CN="K9 Central":MAILTO:info@k9central.ca
END:VEVENT
BEGIN:VEVENT
DTSTART;TZID=America/Toronto:20261217T140000
DTEND;TZID=America/Toronto:20261217T170000
DTSTAMP:20260419T211843
CREATED:20260119T203632Z
LAST-MODIFIED:20260119T203632Z
UID:10006369-1797516000-1797526800@k9central.ca
SUMMARY:Hall in use - cleaning
DESCRIPTION:
URL:https://k9central.ca/event/hall-in-use-cleaning/2026-12-17/
LOCATION:Indoor Hall\, 2836 Holt Road\, Bowmanville\, Ontario\, L1C 3K7\, Canada
CATEGORIES:Hall
ORGANIZER;CN="K9 Central":MAILTO:info@k9central.ca
END:VEVENT
BEGIN:VEVENT
DTSTART;TZID=America/Toronto:20261217T170000
DTEND;TZID=America/Toronto:20261217T210000
DTSTAMP:20260419T211843
CREATED:20251104T005040Z
LAST-MODIFIED:20251104T005205Z
UID:10005281-1797526800-1797541200@k9central.ca
SUMMARY:Hall not available - Classes
DESCRIPTION:
URL:https://k9central.ca/event/classes/2026-12-17/
LOCATION:Indoor Hall\, 2836 Holt Road\, Bowmanville\, Ontario\, L1C 3K7\, Canada
CATEGORIES:Hall
ORGANIZER;CN="K9 Central":MAILTO:info@k9central.ca
END:VEVENT
BEGIN:VEVENT
DTSTART;TZID=America/Toronto:20261221T140000
DTEND;TZID=America/Toronto:20261221T170000
DTSTAMP:20260419T211843
CREATED:20260119T203632Z
LAST-MODIFIED:20260119T203632Z
UID:10006370-1797861600-1797872400@k9central.ca
SUMMARY:Hall in use - cleaning
DESCRIPTION:
URL:https://k9central.ca/event/hall-in-use-cleaning/2026-12-21/
LOCATION:Indoor Hall\, 2836 Holt Road\, Bowmanville\, Ontario\, L1C 3K7\, Canada
CATEGORIES:Hall
ORGANIZER;CN="K9 Central":MAILTO:info@k9central.ca
END:VEVENT
BEGIN:VEVENT
DTSTART;TZID=America/Toronto:20261221T170000
DTEND;TZID=America/Toronto:20261221T210000
DTSTAMP:20260419T211843
CREATED:20251104T005346Z
LAST-MODIFIED:20251104T005346Z
UID:10005542-1797872400-1797886800@k9central.ca
SUMMARY:Hall not available - Classes
DESCRIPTION:
URL:https://k9central.ca/event/hall-not-available-classes/2026-12-21/
LOCATION:Indoor Hall\, 2836 Holt Road\, Bowmanville\, Ontario\, L1C 3K7\, Canada
CATEGORIES:Hall
ORGANIZER;CN="K9 Central":MAILTO:info@k9central.ca
END:VEVENT
BEGIN:VEVENT
DTSTART;TZID=America/Toronto:20261222T180000
DTEND;TZID=America/Toronto:20261222T210000
DTSTAMP:20260419T211843
CREATED:20260113T224845Z
LAST-MODIFIED:20260113T224845Z
UID:10005937-1797962400-1797973200@k9central.ca
SUMMARY:Flyball Practice
DESCRIPTION:
URL:https://k9central.ca/event/flyball-practice/2026-12-22/
LOCATION:Indoor Hall\, 2836 Holt Road\, Bowmanville\, Ontario\, L1C 3K7\, Canada
CATEGORIES:Hall
ORGANIZER;CN="K9 Central":MAILTO:info@k9central.ca
END:VEVENT
BEGIN:VEVENT
DTSTART;TZID=America/Toronto:20261224T140000
DTEND;TZID=America/Toronto:20261224T170000
DTSTAMP:20260419T211843
CREATED:20260119T203632Z
LAST-MODIFIED:20260119T203632Z
UID:10006371-1798120800-1798131600@k9central.ca
SUMMARY:Hall in use - cleaning
DESCRIPTION:
URL:https://k9central.ca/event/hall-in-use-cleaning/2026-12-24/
LOCATION:Indoor Hall\, 2836 Holt Road\, Bowmanville\, Ontario\, L1C 3K7\, Canada
CATEGORIES:Hall
ORGANIZER;CN="K9 Central":MAILTO:info@k9central.ca
END:VEVENT
BEGIN:VEVENT
DTSTART;TZID=America/Toronto:20261224T170000
DTEND;TZID=America/Toronto:20261224T210000
DTSTAMP:20260419T211843
CREATED:20251104T005040Z
LAST-MODIFIED:20251104T005205Z
UID:10005282-1798131600-1798146000@k9central.ca
SUMMARY:Hall not available - Classes
DESCRIPTION:
URL:https://k9central.ca/event/classes/2026-12-24/
LOCATION:Indoor Hall\, 2836 Holt Road\, Bowmanville\, Ontario\, L1C 3K7\, Canada
CATEGORIES:Hall
ORGANIZER;CN="K9 Central":MAILTO:info@k9central.ca
END:VEVENT
BEGIN:VEVENT
DTSTART;TZID=America/Toronto:20261228T140000
DTEND;TZID=America/Toronto:20261228T170000
DTSTAMP:20260419T211843
CREATED:20260119T203632Z
LAST-MODIFIED:20260119T203632Z
UID:10006372-1798466400-1798477200@k9central.ca
SUMMARY:Hall in use - cleaning
DESCRIPTION:
URL:https://k9central.ca/event/hall-in-use-cleaning/2026-12-28/
LOCATION:Indoor Hall\, 2836 Holt Road\, Bowmanville\, Ontario\, L1C 3K7\, Canada
CATEGORIES:Hall
ORGANIZER;CN="K9 Central":MAILTO:info@k9central.ca
END:VEVENT
BEGIN:VEVENT
DTSTART;TZID=America/Toronto:20261228T170000
DTEND;TZID=America/Toronto:20261228T210000
DTSTAMP:20260419T211843
CREATED:20251104T005346Z
LAST-MODIFIED:20251104T005346Z
UID:10005543-1798477200-1798491600@k9central.ca
SUMMARY:Hall not available - Classes
DESCRIPTION:
URL:https://k9central.ca/event/hall-not-available-classes/2026-12-28/
LOCATION:Indoor Hall\, 2836 Holt Road\, Bowmanville\, Ontario\, L1C 3K7\, Canada
CATEGORIES:Hall
ORGANIZER;CN="K9 Central":MAILTO:info@k9central.ca
END:VEVENT
BEGIN:VEVENT
DTSTART;TZID=America/Toronto:20261229T180000
DTEND;TZID=America/Toronto:20261229T210000
DTSTAMP:20260419T211843
CREATED:20260113T224845Z
LAST-MODIFIED:20260113T224845Z
UID:10005938-1798567200-1798578000@k9central.ca
SUMMARY:Flyball Practice
DESCRIPTION:
URL:https://k9central.ca/event/flyball-practice/2026-12-29/
LOCATION:Indoor Hall\, 2836 Holt Road\, Bowmanville\, Ontario\, L1C 3K7\, Canada
CATEGORIES:Hall
ORGANIZER;CN="K9 Central":MAILTO:info@k9central.ca
END:VEVENT
BEGIN:VEVENT
DTSTART;TZID=America/Toronto:20261231T140000
DTEND;TZID=America/Toronto:20261231T170000
DTSTAMP:20260419T211843
CREATED:20260119T203632Z
LAST-MODIFIED:20260119T203632Z
UID:10006373-1798725600-1798736400@k9central.ca
SUMMARY:Hall in use - cleaning
DESCRIPTION:
URL:https://k9central.ca/event/hall-in-use-cleaning/2026-12-31/
LOCATION:Indoor Hall\, 2836 Holt Road\, Bowmanville\, Ontario\, L1C 3K7\, Canada
CATEGORIES:Hall
ORGANIZER;CN="K9 Central":MAILTO:info@k9central.ca
END:VEVENT
BEGIN:VEVENT
DTSTART;TZID=America/Toronto:20261231T170000
DTEND;TZID=America/Toronto:20261231T210000
DTSTAMP:20260419T211843
CREATED:20251104T005040Z
LAST-MODIFIED:20251104T005205Z
UID:10005283-1798736400-1798750800@k9central.ca
SUMMARY:Hall not available - Classes
DESCRIPTION:
URL:https://k9central.ca/event/classes/2026-12-31/
LOCATION:Indoor Hall\, 2836 Holt Road\, Bowmanville\, Ontario\, L1C 3K7\, Canada
CATEGORIES:Hall
ORGANIZER;CN="K9 Central":MAILTO:info@k9central.ca
END:VEVENT
BEGIN:VEVENT
DTSTART;TZID=America/Toronto:20270104T140000
DTEND;TZID=America/Toronto:20270104T170000
DTSTAMP:20260419T211843
CREATED:20260119T203632Z
LAST-MODIFIED:20260119T203632Z
UID:10006374-1799071200-1799082000@k9central.ca
SUMMARY:Hall in use - cleaning
DESCRIPTION:
URL:https://k9central.ca/event/hall-in-use-cleaning/2027-01-04/
LOCATION:Indoor Hall\, 2836 Holt Road\, Bowmanville\, Ontario\, L1C 3K7\, Canada
CATEGORIES:Hall
ORGANIZER;CN="K9 Central":MAILTO:info@k9central.ca
END:VEVENT
BEGIN:VEVENT
DTSTART;TZID=America/Toronto:20270104T170000
DTEND;TZID=America/Toronto:20270104T210000
DTSTAMP:20260419T211843
CREATED:20251104T005346Z
LAST-MODIFIED:20251104T005346Z
UID:10005544-1799082000-1799096400@k9central.ca
SUMMARY:Hall not available - Classes
DESCRIPTION:
URL:https://k9central.ca/event/hall-not-available-classes/2027-01-04/
LOCATION:Indoor Hall\, 2836 Holt Road\, Bowmanville\, Ontario\, L1C 3K7\, Canada
CATEGORIES:Hall
ORGANIZER;CN="K9 Central":MAILTO:info@k9central.ca
END:VEVENT
END:VCALENDAR