BEGIN:VCALENDAR
VERSION:2.0
PRODID:-//K9 Central - ECPv6.15.20//NONSGML v1.0//EN
CALSCALE:GREGORIAN
METHOD:PUBLISH
X-WR-CALNAME:K9 Central
X-ORIGINAL-URL:https://k9central.ca
X-WR-CALDESC:Events for K9 Central
REFRESH-INTERVAL;VALUE=DURATION:PT1H
X-Robots-Tag:noindex
X-PUBLISHED-TTL:PT1H
BEGIN:VTIMEZONE
TZID:America/Toronto
BEGIN:DAYLIGHT
TZOFFSETFROM:-0500
TZOFFSETTO:-0400
TZNAME:EDT
DTSTART:20240310T070000
END:DAYLIGHT
BEGIN:STANDARD
TZOFFSETFROM:-0400
TZOFFSETTO:-0500
TZNAME:EST
DTSTART:20241103T060000
END:STANDARD
BEGIN:DAYLIGHT
TZOFFSETFROM:-0500
TZOFFSETTO:-0400
TZNAME:EDT
DTSTART:20250309T070000
END:DAYLIGHT
BEGIN:STANDARD
TZOFFSETFROM:-0400
TZOFFSETTO:-0500
TZNAME:EST
DTSTART:20251102T060000
END:STANDARD
BEGIN:DAYLIGHT
TZOFFSETFROM:-0500
TZOFFSETTO:-0400
TZNAME:EDT
DTSTART:20260308T070000
END:DAYLIGHT
BEGIN:STANDARD
TZOFFSETFROM:-0400
TZOFFSETTO:-0500
TZNAME:EST
DTSTART:20261101T060000
END:STANDARD
END:VTIMEZONE
BEGIN:VEVENT
DTSTART;TZID=America/Toronto:20251003T180000
DTEND;TZID=America/Toronto:20251003T210000
DTSTAMP:20260422T101300
CREATED:20251003T143208Z
LAST-MODIFIED:20251003T143208Z
UID:10005101-1759514400-1759525200@k9central.ca
SUMMARY:Hall in use - Morgan
DESCRIPTION:
URL:https://k9central.ca/event/hall-in-use-morgan/
LOCATION:Indoor Hall\, 2836 Holt Road\, Bowmanville\, Ontario\, L1C 3K7\, Canada
CATEGORIES:Hall
ORGANIZER;CN="K9 Central":MAILTO:info@k9central.ca
END:VEVENT
BEGIN:VEVENT
DTSTART;TZID=America/Toronto:20251005T120000
DTEND;TZID=America/Toronto:20251005T180000
DTSTAMP:20260422T101300
CREATED:20250910T185609Z
LAST-MODIFIED:20250929T140935Z
UID:10005016-1759665600-1759687200@k9central.ca
SUMMARY:OTF CanAm Practice
DESCRIPTION:
URL:https://k9central.ca/event/otf-canam-practice/
LOCATION:Indoor Hall\, 2836 Holt Road\, Bowmanville\, Ontario\, L1C 3K7\, Canada
CATEGORIES:Hall
ORGANIZER;CN="K9 Central":MAILTO:info@k9central.ca
END:VEVENT
BEGIN:VEVENT
DTSTART;TZID=America/Toronto:20251006T100000
DTEND;TZID=America/Toronto:20251006T120000
DTSTAMP:20260422T101300
CREATED:20250908T145745Z
LAST-MODIFIED:20251001T183538Z
UID:10004678-1759744800-1759752000@k9central.ca
SUMMARY:Irene - Hall Rental
DESCRIPTION:
URL:https://k9central.ca/event/irene-hall-rental-4/
LOCATION:Indoor Hall\, 2836 Holt Road\, Bowmanville\, Ontario\, L1C 3K7\, Canada
CATEGORIES:Hall
ORGANIZER;CN="K9 Central":MAILTO:info@k9central.ca
END:VEVENT
BEGIN:VEVENT
DTSTART;TZID=America/Toronto:20251008T203000
DTEND;TZID=America/Toronto:20251008T220000
DTSTAMP:20260422T101300
CREATED:20251001T214526Z
LAST-MODIFIED:20251001T214526Z
UID:10004980-1759955400-1759960800@k9central.ca
SUMMARY:Hall Rental - Jen
DESCRIPTION:
URL:https://k9central.ca/event/hall-rental-jen-3/
LOCATION:Indoor Hall\, 2836 Holt Road\, Bowmanville\, Ontario\, L1C 3K7\, Canada
CATEGORIES:Hall
ORGANIZER;CN="K9 Central":MAILTO:info@k9central.ca
END:VEVENT
BEGIN:VEVENT
DTSTART;TZID=America/Toronto:20251015T203000
DTEND;TZID=America/Toronto:20251015T220000
DTSTAMP:20260422T101300
CREATED:20251001T214118Z
LAST-MODIFIED:20251001T214118Z
UID:10004981-1760560200-1760565600@k9central.ca
SUMMARY:Hall Rental - Jen
DESCRIPTION:
URL:https://k9central.ca/event/hall-rental-jen-2/2025-10-15/
LOCATION:Indoor Hall\, 2836 Holt Road\, Bowmanville\, Ontario\, L1C 3K7\, Canada
CATEGORIES:Hall
ORGANIZER;CN="K9 Central":MAILTO:info@k9central.ca
END:VEVENT
BEGIN:VEVENT
DTSTART;TZID=America/Toronto:20251017T173000
DTEND;TZID=America/Toronto:20251017T203000
DTSTAMP:20260422T101300
CREATED:20251017T161755Z
LAST-MODIFIED:20251017T161755Z
UID:10005135-1760722200-1760733000@k9central.ca
SUMMARY:Hall Booked
DESCRIPTION:
URL:https://k9central.ca/event/hall-booked/2025-10-17/
LOCATION:Indoor Hall\, 2836 Holt Road\, Bowmanville\, Ontario\, L1C 3K7\, Canada
CATEGORIES:Hall
ORGANIZER;CN="K9 Central":MAILTO:info@k9central.ca
END:VEVENT
BEGIN:VEVENT
DTSTART;TZID=America/Toronto:20251020T100000
DTEND;TZID=America/Toronto:20251020T120000
DTSTAMP:20260422T101300
CREATED:20250908T153745Z
LAST-MODIFIED:20251001T214725Z
UID:10004681-1760954400-1760961600@k9central.ca
SUMMARY:Irene - Hall Rental
DESCRIPTION:
URL:https://k9central.ca/event/irene-hall-rental-7/
LOCATION:Indoor Hall\, 2836 Holt Road\, Bowmanville\, Ontario\, L1C 3K7\, Canada
CATEGORIES:Hall
ORGANIZER;CN="K9 Central":MAILTO:info@k9central.ca
END:VEVENT
BEGIN:VEVENT
DTSTART;TZID=America/Toronto:20251022T203000
DTEND;TZID=America/Toronto:20251022T220000
DTSTAMP:20260422T101300
CREATED:20251001T214118Z
LAST-MODIFIED:20251001T214118Z
UID:10004982-1761165000-1761170400@k9central.ca
SUMMARY:Hall Rental - Jen
DESCRIPTION:
URL:https://k9central.ca/event/hall-rental-jen-2/2025-10-22/
LOCATION:Indoor Hall\, 2836 Holt Road\, Bowmanville\, Ontario\, L1C 3K7\, Canada
CATEGORIES:Hall
ORGANIZER;CN="K9 Central":MAILTO:info@k9central.ca
END:VEVENT
BEGIN:VEVENT
DTSTART;TZID=America/Toronto:20251024T173000
DTEND;TZID=America/Toronto:20251024T203000
DTSTAMP:20260422T101300
CREATED:20251017T161755Z
LAST-MODIFIED:20251017T161755Z
UID:10005136-1761327000-1761337800@k9central.ca
SUMMARY:Hall Booked
DESCRIPTION:
URL:https://k9central.ca/event/hall-booked/2025-10-24/
LOCATION:Indoor Hall\, 2836 Holt Road\, Bowmanville\, Ontario\, L1C 3K7\, Canada
CATEGORIES:Hall
ORGANIZER;CN="K9 Central":MAILTO:info@k9central.ca
END:VEVENT
BEGIN:VEVENT
DTSTART;TZID=America/Toronto:20251026T100000
DTEND;TZID=America/Toronto:20251026T110000
DTSTAMP:20260422T101300
CREATED:20251022T171157Z
LAST-MODIFIED:20251022T171157Z
UID:10005196-1761472800-1761476400@k9central.ca
SUMMARY:Hall Booked - Cassie Private
DESCRIPTION:
URL:https://k9central.ca/event/hall-booked-cassie-private/
LOCATION:Indoor Hall\, 2836 Holt Road\, Bowmanville\, Ontario\, L1C 3K7\, Canada
CATEGORIES:Hall
ORGANIZER;CN="K9 Central":MAILTO:info@k9central.ca
END:VEVENT
BEGIN:VEVENT
DTSTART;TZID=America/Toronto:20251029T153000
DTEND;TZID=America/Toronto:20251029T210000
DTSTAMP:20260422T101300
CREATED:20251006T140846Z
LAST-MODIFIED:20251006T140846Z
UID:10005104-1761751800-1761771600@k9central.ca
SUMMARY:Hall booked - Classes - Lorrie Brooks
DESCRIPTION:
URL:https://k9central.ca/event/hall-booked-classes-lorrie-brooks/2025-10-29/
LOCATION:Indoor Hall\, 2836 Holt Road\, Bowmanville\, Ontario\, L1C 3K7\, Canada
CATEGORIES:Hall
ORGANIZER;CN="K9 Central":MAILTO:info@k9central.ca
END:VEVENT
BEGIN:VEVENT
DTSTART;TZID=America/Toronto:20251029T203000
DTEND;TZID=America/Toronto:20251029T220000
DTSTAMP:20260422T101300
CREATED:20251001T214118Z
LAST-MODIFIED:20251001T214118Z
UID:10004983-1761769800-1761775200@k9central.ca
SUMMARY:Hall Rental - Jen
DESCRIPTION:
URL:https://k9central.ca/event/hall-rental-jen-2/2025-10-29/
LOCATION:Indoor Hall\, 2836 Holt Road\, Bowmanville\, Ontario\, L1C 3K7\, Canada
CATEGORIES:Hall
ORGANIZER;CN="K9 Central":MAILTO:info@k9central.ca
END:VEVENT
BEGIN:VEVENT
DTSTART;TZID=America/Toronto:20251031T173000
DTEND;TZID=America/Toronto:20251031T203000
DTSTAMP:20260422T101300
CREATED:20251017T161755Z
LAST-MODIFIED:20251017T161755Z
UID:10005137-1761931800-1761942600@k9central.ca
SUMMARY:Hall Booked
DESCRIPTION:
URL:https://k9central.ca/event/hall-booked/2025-10-31/
LOCATION:Indoor Hall\, 2836 Holt Road\, Bowmanville\, Ontario\, L1C 3K7\, Canada
CATEGORIES:Hall
ORGANIZER;CN="K9 Central":MAILTO:info@k9central.ca
END:VEVENT
END:VCALENDAR