BEGIN:VCALENDAR
VERSION:2.0
PRODID:-//K9 Central - ECPv6.15.20//NONSGML v1.0//EN
CALSCALE:GREGORIAN
METHOD:PUBLISH
X-ORIGINAL-URL:https://k9central.ca
X-WR-CALDESC:Events for K9 Central
REFRESH-INTERVAL;VALUE=DURATION:PT1H
X-Robots-Tag:noindex
X-PUBLISHED-TTL:PT1H
BEGIN:VTIMEZONE
TZID:America/Toronto
BEGIN:DAYLIGHT
TZOFFSETFROM:-0500
TZOFFSETTO:-0400
TZNAME:EDT
DTSTART:20240310T070000
END:DAYLIGHT
BEGIN:STANDARD
TZOFFSETFROM:-0400
TZOFFSETTO:-0500
TZNAME:EST
DTSTART:20241103T060000
END:STANDARD
BEGIN:DAYLIGHT
TZOFFSETFROM:-0500
TZOFFSETTO:-0400
TZNAME:EDT
DTSTART:20250309T070000
END:DAYLIGHT
BEGIN:STANDARD
TZOFFSETFROM:-0400
TZOFFSETTO:-0500
TZNAME:EST
DTSTART:20251102T060000
END:STANDARD
BEGIN:DAYLIGHT
TZOFFSETFROM:-0500
TZOFFSETTO:-0400
TZNAME:EDT
DTSTART:20260308T070000
END:DAYLIGHT
BEGIN:STANDARD
TZOFFSETFROM:-0400
TZOFFSETTO:-0500
TZNAME:EST
DTSTART:20261101T060000
END:STANDARD
END:VTIMEZONE
BEGIN:VEVENT
DTSTART;TZID=America/Toronto:20251006T070000
DTEND;TZID=America/Toronto:20251006T080000
DTSTAMP:20260422T201338
CREATED:20250919T120044Z
LAST-MODIFIED:20250919T124459Z
UID:10005076-1759734000-1759737600@k9central.ca
SUMMARY:Pool - Stacy H
DESCRIPTION:
URL:https://k9central.ca/event/pool-stacy-h/2025-10-06/
LOCATION:Dog Pool\, 2836 Holt Road\, Bowmanville\, Ontario\, L1C 3K7\, Canada
ORGANIZER;CN="K9 Central":MAILTO:info@k9central.ca
END:VEVENT
BEGIN:VEVENT
DTSTART;TZID=America/Toronto:20251006T080000
DTEND;TZID=America/Toronto:20251006T090000
DTSTAMP:20260422T201338
CREATED:20240809T002950Z
LAST-MODIFIED:20240809T004654Z
UID:10001544-1759737600-1759741200@k9central.ca
SUMMARY:Hall Not Available
DESCRIPTION:
URL:https://k9central.ca/event/hall-not-available/2025-10-06/
LOCATION:Indoor Hall\, 2836 Holt Road\, Bowmanville\, Ontario\, L1C 3K7\, Canada
ORGANIZER;CN="K9 Central":MAILTO:info@k9central.ca
END:VEVENT
BEGIN:VEVENT
DTSTART;TZID=America/Toronto:20251006T100000
DTEND;TZID=America/Toronto:20251006T110000
DTSTAMP:20260422T201338
CREATED:20251003T145835Z
LAST-MODIFIED:20251003T152945Z
UID:10005102-1759744800-1759748400@k9central.ca
SUMMARY:Pool - Carol
DESCRIPTION:
URL:https://k9central.ca/event/pool-carol-6/
LOCATION:Dog Pool\, 2836 Holt Road\, Bowmanville\, Ontario\, L1C 3K7\, Canada
CATEGORIES:Pool
ORGANIZER;CN="K9 Central":MAILTO:info@k9central.ca
END:VEVENT
BEGIN:VEVENT
DTSTART;TZID=America/Toronto:20251006T100000
DTEND;TZID=America/Toronto:20251006T120000
DTSTAMP:20260422T201338
CREATED:20250908T145745Z
LAST-MODIFIED:20251001T183538Z
UID:10004678-1759744800-1759752000@k9central.ca
SUMMARY:Irene - Hall Rental
DESCRIPTION:
URL:https://k9central.ca/event/irene-hall-rental-4/
LOCATION:Indoor Hall\, 2836 Holt Road\, Bowmanville\, Ontario\, L1C 3K7\, Canada
CATEGORIES:Hall
ORGANIZER;CN="K9 Central":MAILTO:info@k9central.ca
END:VEVENT
BEGIN:VEVENT
DTSTART;TZID=America/Toronto:20251006T110000
DTEND;TZID=America/Toronto:20251006T120000
DTSTAMP:20260422T201338
CREATED:20251001T182213Z
LAST-MODIFIED:20251001T182213Z
UID:10005040-1759748400-1759752000@k9central.ca
SUMMARY:Pool in use - K9
DESCRIPTION:
URL:https://k9central.ca/event/pool-in-use-k9-2/2025-10-06/
LOCATION:Dog Pool\, 2836 Holt Road\, Bowmanville\, Ontario\, L1C 3K7\, Canada
CATEGORIES:Pool
ORGANIZER;CN="K9 Central":MAILTO:info@k9central.ca
END:VEVENT
BEGIN:VEVENT
DTSTART;TZID=America/Toronto:20251006T150000
DTEND;TZID=America/Toronto:20251006T153000
DTSTAMP:20260422T201338
CREATED:20240809T173440Z
LAST-MODIFIED:20240809T173440Z
UID:10003714-1759762800-1759764600@k9central.ca
SUMMARY:Jordan
DESCRIPTION:
URL:https://k9central.ca/event/jordan/2025-10-06/
LOCATION:Dog Pool\, 2836 Holt Road\, Bowmanville\, Ontario\, L1C 3K7\, Canada
ORGANIZER;CN="K9 Central":MAILTO:info@k9central.ca
END:VEVENT
BEGIN:VEVENT
DTSTART;TZID=America/Toronto:20251006T183000
DTEND;TZID=America/Toronto:20251006T193000
DTSTAMP:20260422T201338
CREATED:20251006T180327Z
LAST-MODIFIED:20251006T180327Z
UID:10005133-1759775400-1759779000@k9central.ca
SUMMARY:Pool-Tammy T
DESCRIPTION:
URL:https://k9central.ca/event/pool-tammy-t/
LOCATION:Dog Pool\, 2836 Holt Road\, Bowmanville\, Ontario\, L1C 3K7\, Canada
CATEGORIES:Pool
ORGANIZER;CN="K9 Central":MAILTO:info@k9central.ca
END:VEVENT
END:VCALENDAR