BEGIN:VCALENDAR
VERSION:2.0
PRODID:-//K9 Central - ECPv6.15.20//NONSGML v1.0//EN
CALSCALE:GREGORIAN
METHOD:PUBLISH
X-ORIGINAL-URL:https://k9central.ca
X-WR-CALDESC:Events for K9 Central
REFRESH-INTERVAL;VALUE=DURATION:PT1H
X-Robots-Tag:noindex
X-PUBLISHED-TTL:PT1H
BEGIN:VTIMEZONE
TZID:America/Toronto
BEGIN:DAYLIGHT
TZOFFSETFROM:-0500
TZOFFSETTO:-0400
TZNAME:EDT
DTSTART:20240310T070000
END:DAYLIGHT
BEGIN:STANDARD
TZOFFSETFROM:-0400
TZOFFSETTO:-0500
TZNAME:EST
DTSTART:20241103T060000
END:STANDARD
BEGIN:DAYLIGHT
TZOFFSETFROM:-0500
TZOFFSETTO:-0400
TZNAME:EDT
DTSTART:20250309T070000
END:DAYLIGHT
BEGIN:STANDARD
TZOFFSETFROM:-0400
TZOFFSETTO:-0500
TZNAME:EST
DTSTART:20251102T060000
END:STANDARD
BEGIN:DAYLIGHT
TZOFFSETFROM:-0500
TZOFFSETTO:-0400
TZNAME:EDT
DTSTART:20260308T070000
END:DAYLIGHT
BEGIN:STANDARD
TZOFFSETFROM:-0400
TZOFFSETTO:-0500
TZNAME:EST
DTSTART:20261101T060000
END:STANDARD
END:VTIMEZONE
BEGIN:VEVENT
DTSTART;TZID=America/Toronto:20250925T070000
DTEND;TZID=America/Toronto:20250925T080000
DTSTAMP:20260423T220240
CREATED:20250919T120044Z
LAST-MODIFIED:20250919T124459Z
UID:10005054-1758783600-1758787200@k9central.ca
SUMMARY:Pool - Stacy H
DESCRIPTION:
URL:https://k9central.ca/event/pool-stacy-h/2025-09-25/
LOCATION:Dog Pool\, 2836 Holt Road\, Bowmanville\, Ontario\, L1C 3K7\, Canada
ORGANIZER;CN="K9 Central":MAILTO:info@k9central.ca
END:VEVENT
BEGIN:VEVENT
DTSTART;TZID=America/Toronto:20250925T100000
DTEND;TZID=America/Toronto:20250925T110000
DTSTAMP:20260423T220240
CREATED:20250919T121443Z
LAST-MODIFIED:20250919T121443Z
UID:10005060-1758794400-1758798000@k9central.ca
SUMMARY:Pool - Carol
DESCRIPTION:
URL:https://k9central.ca/event/pool-carol-2/
LOCATION:Dog Pool\, 2836 Holt Road\, Bowmanville\, Ontario\, L1C 3K7\, Canada
ORGANIZER;CN="K9 Central":MAILTO:info@k9central.ca
END:VEVENT
BEGIN:VEVENT
DTSTART;TZID=America/Toronto:20250925T110000
DTEND;TZID=America/Toronto:20250925T120000
DTSTAMP:20260423T220240
CREATED:20250919T114937Z
LAST-MODIFIED:20250919T114937Z
UID:10005029-1758798000-1758801600@k9central.ca
SUMMARY:Pool in use - K9
DESCRIPTION:
URL:https://k9central.ca/event/pool-in-use-k9/2025-09-25/
LOCATION:Dog Pool\, 2836 Holt Road\, Bowmanville\, Ontario\, L1C 3K7\, Canada
ORGANIZER;CN="K9 Central":MAILTO:info@k9central.ca
END:VEVENT
BEGIN:VEVENT
DTSTART;TZID=America/Toronto:20250925T123000
DTEND;TZID=America/Toronto:20250925T133000
DTSTAMP:20260423T220240
CREATED:20250919T121539Z
LAST-MODIFIED:20250919T121539Z
UID:10005061-1758803400-1758807000@k9central.ca
SUMMARY:Pool - Karen
DESCRIPTION:
URL:https://k9central.ca/event/pool-karen-2/
LOCATION:Dog Pool\, 2836 Holt Road\, Bowmanville\, Ontario\, L1C 3K7\, Canada
ORGANIZER;CN="K9 Central":MAILTO:info@k9central.ca
END:VEVENT
BEGIN:VEVENT
DTSTART;TZID=America/Toronto:20250925T160000
DTEND;TZID=America/Toronto:20250925T170000
DTSTAMP:20260423T220240
CREATED:20250925T182430Z
LAST-MODIFIED:20250925T182430Z
UID:10005094-1758816000-1758819600@k9central.ca
SUMMARY:RMC
DESCRIPTION:
URL:https://k9central.ca/event/rmc/
LOCATION:Dog Pool\, 2836 Holt Road\, Bowmanville\, Ontario\, L1C 3K7\, Canada
CATEGORIES:Pool
ORGANIZER;CN="K9 Central":MAILTO:info@k9central.ca
END:VEVENT
BEGIN:VEVENT
DTSTART;TZID=America/Toronto:20250925T180000
DTEND;TZID=America/Toronto:20250925T190000
DTSTAMP:20260423T220240
CREATED:20250919T121713Z
LAST-MODIFIED:20250919T121713Z
UID:10005062-1758823200-1758826800@k9central.ca
SUMMARY:Dock Private Lessons
DESCRIPTION:
URL:https://k9central.ca/event/dock-private-lessons/
LOCATION:Dog Pool\, 2836 Holt Road\, Bowmanville\, Ontario\, L1C 3K7\, Canada
ORGANIZER;CN="K9 Central":MAILTO:info@k9central.ca
END:VEVENT
END:VCALENDAR