BEGIN:VCALENDAR
VERSION:2.0
PRODID:-//K9 Central - ECPv6.15.20//NONSGML v1.0//EN
CALSCALE:GREGORIAN
METHOD:PUBLISH
X-ORIGINAL-URL:https://k9central.ca
X-WR-CALDESC:Events for K9 Central
REFRESH-INTERVAL;VALUE=DURATION:PT1H
X-Robots-Tag:noindex
X-PUBLISHED-TTL:PT1H
BEGIN:VTIMEZONE
TZID:America/Toronto
BEGIN:DAYLIGHT
TZOFFSETFROM:-0500
TZOFFSETTO:-0400
TZNAME:EDT
DTSTART:20240310T070000
END:DAYLIGHT
BEGIN:STANDARD
TZOFFSETFROM:-0400
TZOFFSETTO:-0500
TZNAME:EST
DTSTART:20241103T060000
END:STANDARD
BEGIN:DAYLIGHT
TZOFFSETFROM:-0500
TZOFFSETTO:-0400
TZNAME:EDT
DTSTART:20250309T070000
END:DAYLIGHT
BEGIN:STANDARD
TZOFFSETFROM:-0400
TZOFFSETTO:-0500
TZNAME:EST
DTSTART:20251102T060000
END:STANDARD
BEGIN:DAYLIGHT
TZOFFSETFROM:-0500
TZOFFSETTO:-0400
TZNAME:EDT
DTSTART:20260308T070000
END:DAYLIGHT
BEGIN:STANDARD
TZOFFSETFROM:-0400
TZOFFSETTO:-0500
TZNAME:EST
DTSTART:20261101T060000
END:STANDARD
END:VTIMEZONE
BEGIN:VEVENT
DTSTART;TZID=America/Toronto:20250317T080000
DTEND;TZID=America/Toronto:20250317T090000
DTSTAMP:20260422T200523
CREATED:20240809T002950Z
LAST-MODIFIED:20240809T004654Z
UID:10001428-1742198400-1742202000@k9central.ca
SUMMARY:Hall Not Available
DESCRIPTION:
URL:https://k9central.ca/event/hall-not-available/2025-03-17/
LOCATION:Indoor Hall\, 2836 Holt Road\, Bowmanville\, Ontario\, L1C 3K7\, Canada
ORGANIZER;CN="K9 Central":MAILTO:info@k9central.ca
END:VEVENT
BEGIN:VEVENT
DTSTART;TZID=America/Toronto:20250317T150000
DTEND;TZID=America/Toronto:20250317T153000
DTSTAMP:20260422T200523
CREATED:20240809T173440Z
LAST-MODIFIED:20240809T173440Z
UID:10003685-1742223600-1742225400@k9central.ca
SUMMARY:Jordan
DESCRIPTION:
URL:https://k9central.ca/event/jordan/2025-03-17/
LOCATION:Dog Pool\, 2836 Holt Road\, Bowmanville\, Ontario\, L1C 3K7\, Canada
ORGANIZER;CN="K9 Central":MAILTO:info@k9central.ca
END:VEVENT
BEGIN:VEVENT
DTSTART;TZID=America/Toronto:20250317T180000
DTEND;TZID=America/Toronto:20250317T190000
DTSTAMP:20260422T200523
CREATED:20250110T173201Z
LAST-MODIFIED:20250110T173201Z
UID:10004292-1742234400-1742238000@k9central.ca
SUMMARY:Basic Manners
DESCRIPTION:
URL:https://k9central.ca/event/basic-manners-3/2025-03-17/
LOCATION:Indoor Hall\, 2836 Holt Road\, Bowmanville\, Ontario\, L1C 3K7\, Canada
ORGANIZER;CN="K9 Central":MAILTO:info@k9central.ca
END:VEVENT
BEGIN:VEVENT
DTSTART;TZID=America/Toronto:20250317T200000
DTEND;TZID=America/Toronto:20250317T210000
DTSTAMP:20260422T200523
CREATED:20250226T175621Z
LAST-MODIFIED:20250226T175621Z
UID:10004591-1742241600-1742245200@k9central.ca
SUMMARY:Basic Manners : Start : Mon March 3/25
DESCRIPTION:
URL:https://k9central.ca/event/basic-manners-start-mon-march-3-25/2025-03-17/
LOCATION:Indoor Hall\, 2836 Holt Road\, Bowmanville\, Ontario\, L1C 3K7\, Canada
CATEGORIES:Classes
ORGANIZER;CN="K9 Central":MAILTO:info@k9central.ca
END:VEVENT
END:VCALENDAR