BEGIN:VCALENDAR
VERSION:2.0
PRODID:-//K9 Central - ECPv6.15.20//NONSGML v1.0//EN
CALSCALE:GREGORIAN
METHOD:PUBLISH
X-ORIGINAL-URL:https://k9central.ca
X-WR-CALDESC:Events for K9 Central
REFRESH-INTERVAL;VALUE=DURATION:PT1H
X-Robots-Tag:noindex
X-PUBLISHED-TTL:PT1H
BEGIN:VTIMEZONE
TZID:America/Toronto
BEGIN:DAYLIGHT
TZOFFSETFROM:-0500
TZOFFSETTO:-0400
TZNAME:EDT
DTSTART:20240310T070000
END:DAYLIGHT
BEGIN:STANDARD
TZOFFSETFROM:-0400
TZOFFSETTO:-0500
TZNAME:EST
DTSTART:20241103T060000
END:STANDARD
BEGIN:DAYLIGHT
TZOFFSETFROM:-0500
TZOFFSETTO:-0400
TZNAME:EDT
DTSTART:20250309T070000
END:DAYLIGHT
BEGIN:STANDARD
TZOFFSETFROM:-0400
TZOFFSETTO:-0500
TZNAME:EST
DTSTART:20251102T060000
END:STANDARD
BEGIN:DAYLIGHT
TZOFFSETFROM:-0500
TZOFFSETTO:-0400
TZNAME:EDT
DTSTART:20260308T070000
END:DAYLIGHT
BEGIN:STANDARD
TZOFFSETFROM:-0400
TZOFFSETTO:-0500
TZNAME:EST
DTSTART:20261101T060000
END:STANDARD
END:VTIMEZONE
BEGIN:VEVENT
DTSTART;TZID=America/Toronto:20250226T080000
DTEND;TZID=America/Toronto:20250226T090000
DTSTAMP:20260422T053337
CREATED:20240809T002950Z
LAST-MODIFIED:20240809T004654Z
UID:10001418-1740556800-1740560400@k9central.ca
SUMMARY:Hall Not Available
DESCRIPTION:
URL:https://k9central.ca/event/hall-not-available/2025-02-26/
LOCATION:Indoor Hall\, 2836 Holt Road\, Bowmanville\, Ontario\, L1C 3K7\, Canada
ORGANIZER;CN="K9 Central":MAILTO:info@k9central.ca
END:VEVENT
BEGIN:VEVENT
DTSTART;TZID=America/Toronto:20250226T160000
DTEND;TZID=America/Toronto:20250226T220000
DTSTAMP:20260422T053337
CREATED:20250226T175127Z
LAST-MODIFIED:20250226T175127Z
UID:10004579-1740585600-1740607200@k9central.ca
SUMMARY:Agility Classes 4PM-9:30PM
DESCRIPTION:
URL:https://k9central.ca/event/agility-classes-4pm-930pm/2025-02-26/
LOCATION:Indoor Hall\, 2836 Holt Road\, Bowmanville\, Ontario\, L1C 3K7\, Canada
CATEGORIES:Classes
ORGANIZER;CN="K9 Central":MAILTO:info@k9central.ca
END:VEVENT
END:VCALENDAR